BEGIN:VCALENDAR
VERSION:2.0
PRODID:-//Alpha Implant - ECPv6.15.18//NONSGML v1.0//EN
CALSCALE:GREGORIAN
METHOD:PUBLISH
X-WR-CALNAME:Alpha Implant
X-ORIGINAL-URL:https://alphaimplant.hu
X-WR-CALDESC:Események Alpha Implant
REFRESH-INTERVAL;VALUE=DURATION:PT1H
X-Robots-Tag:noindex
X-PUBLISHED-TTL:PT1H
BEGIN:VTIMEZONE
TZID:UTC
BEGIN:STANDARD
TZOFFSETFROM:+0000
TZOFFSETTO:+0000
TZNAME:UTC
DTSTART:20230101T000000
END:STANDARD
END:VTIMEZONE
BEGIN:VEVENT
DTSTART;TZID=UTC:20241206T080000
DTEND;TZID=UTC:20241206T170000
DTSTAMP:20260423T191735
CREATED:20240718T143336Z
LAST-MODIFIED:20240718T144242Z
UID:5388-1733472000-1733504400@alphaimplant.hu
SUMMARY:Xenograftok felhasználási lehetőségei irányított csontregenerációban (GBR) és az implantátumok körüli lágyszövetplasztikában 2. | Dr. Bartha Ferenc
DESCRIPTION:A fogeltávolítást követő kemény – és lágyszöveti viszonyok változásának sebészeti korrekciója az ideális implantátum – protetikai kapcsolat kialakításához\nIdőpont: 2024.12.06 09:00-17:00\nElőadó: Dr. Bartha Ferenc\nKurzus díja: két képzés esetén bruttó 258.000 Ft\, egy képzés esetén bruttó 139.000 Ft\nHelyszín: 1016 Budapest\, Mészáros utca 58. B épület\, 4. emelet\nPontok: A képzés akkreditált\, 2 pont kapható érte. \nTematika\n09.00 – 10.45 \n– az extractios seb gyógyulása\n– alveolus prezervációs technikák \n10.45 – 11.00 \n– kávészünet \n11.00 – 12.30 \n– horizontális csontdefektusok augmentációja GBR alkalmazásával \n12.30 – 13.30 \n– ebédszünet \n13.30 – 15.00 \n– implantátum körüli lágyszövetek kialakítása\n– feszes íny vastagítás\n– feszes íny szélesítés \n15.00 – 15.15 \n– kávészünet \n15.15 – 17.00 \n– hands-on sertés állcsonton \nJelentkezés
URL:https://alphaimplant.hu/oktatas/xenograftok-felhasznalasi-lehetosegei-iranyitott-csontregeneracioban-gbr-es-az-implantatumok-koruli-lagyszovetplasztikaban-2-dr-bartha-ferenc-2/
LOCATION:Alpha Implant Oktatási Központ\, Mészáros utca 58. B épület\, 4. emelet\, Budapest\, Pest\, 1016\, Magyarország
ATTACH;FMTTYPE=image/png:https://alphaimplant.hu/wp-content/uploads/2024/07/1206_AI_event_2024_2_1336x700.png
ORGANIZER;CN="Alpha Implant Kft.":MAILTO:oktatas@alphaimplant.hu
END:VEVENT
END:VCALENDAR