BEGIN:VCALENDAR
VERSION:2.0
PRODID:-//Alpha Implant - ECPv6.15.18//NONSGML v1.0//EN
CALSCALE:GREGORIAN
METHOD:PUBLISH
X-WR-CALNAME:Alpha Implant
X-ORIGINAL-URL:https://alphaimplant.hu
X-WR-CALDESC:Események Alpha Implant
REFRESH-INTERVAL;VALUE=DURATION:PT1H
X-Robots-Tag:noindex
X-PUBLISHED-TTL:PT1H
BEGIN:VTIMEZONE
TZID:UTC
BEGIN:STANDARD
TZOFFSETFROM:+0000
TZOFFSETTO:+0000
TZNAME:UTC
DTSTART:20230101T000000
END:STANDARD
END:VTIMEZONE
BEGIN:VEVENT
DTSTART;TZID=UTC:20240229T090000
DTEND;TZID=UTC:20240229T140000
DTSTAMP:20260422T222930
CREATED:20240205T212951Z
LAST-MODIFIED:20240223T071504Z
UID:5043-1709197200-1709215200@alphaimplant.hu
SUMMARY:BETELT | Utazásom az OT Equator rendszerrel | Dr. Sandulescu Mihai | Ingyenes
DESCRIPTION:Utazásom az OT Equator rendszerrel\nElőadó: Dr. Sandulescu Mihai\nIdőpont: 2024.02.29\nKurzus díja: INGYENES\, de regisztrációhoz kötött\nHelyszín: 1016 Budapest\, Mészáros utca 58. B épület\, 4. emelet \nLeírás\nDr. Sandulescu Mihai\, aki az előadásban rávilágít az OT Equator alkalmazásának fő előnyeire\, valamint\, hogy miért tértek át a klasszikus multi unitokról az OT híd protokollra. A klasszikus fogpótlásoktól kezdve\, a stéggel támogatott fogpótlásokon és a fix csavaros fogpótlásokon át az OT Equator a ma elérhető legsokoldalúbb protézisrendszer a piacon\, amely minden protetikai igényt kielégít\, és minden elérhető implantátumrendszerhez illeszkedik.\nMivel minden új eljárásnak van egy tanulási görbéje\, ezért fokozatosan bemutatjuk a klinikai lépéseket\, a rendszer mögött meghúzódó logikát\, és azt\, hogy\nhogyan tudjuk bevezetni a mindennapi klinikai gyakorlatunkba. \nAz előadóról\nDr. Dr. Mihai Săndulescu a Bukaresti „Carol Davila” Orvosi és Gyógyszerészeti Egyetem Fogorvostudományi Karának professzori pozícióját tölti be. Vezető szájsebész és a fogpótlástan szakorvosa. Emellett a fogászat PhD koordinátora\, valamint számos tudományos és szerkesztőbizottság tagja. Az év során szakosodása révén országos\, európai és nemzetközi előadó lett\, tanfolyamokat és tudományos konferenciákat tartott a fogászati területen tevékenykedő különböző cégekkel együttműködve. Emellett cikkek és tudományos publikációk szerzője nagy hatású folyóiratokban. \nBETELT
URL:https://alphaimplant.hu/oktatas/utazasom-az-ot-equator-rendszerrel-dr-sandulescu-mihai/
LOCATION:Alpha Implant Oktatási Központ\, Mészáros utca 58. B épület\, 4. emelet\, Budapest\, Pest\, 1016\, Magyarország
ATTACH;FMTTYPE=image/png:https://alphaimplant.hu/wp-content/uploads/2023/12/ai-soldout-1.png
ORGANIZER;CN="Alpha Implant Kft.":MAILTO:oktatas@alphaimplant.hu
END:VEVENT
END:VCALENDAR