BEGIN:VCALENDAR
VERSION:2.0
PRODID:-//Alpha Implant - ECPv6.15.18//NONSGML v1.0//EN
CALSCALE:GREGORIAN
METHOD:PUBLISH
X-WR-CALNAME:Alpha Implant
X-ORIGINAL-URL:https://alphaimplant.hu
X-WR-CALDESC:Események Alpha Implant
REFRESH-INTERVAL;VALUE=DURATION:PT1H
X-Robots-Tag:noindex
X-PUBLISHED-TTL:PT1H
BEGIN:VTIMEZONE
TZID:UTC
BEGIN:STANDARD
TZOFFSETFROM:+0000
TZOFFSETTO:+0000
TZNAME:UTC
DTSTART:20250101T000000
END:STANDARD
END:VTIMEZONE
BEGIN:VEVENT
DTSTART;VALUE=DATE:20260417
DTEND;VALUE=DATE:20260419
DTSTAMP:20260422T083817
CREATED:20260211T173234Z
LAST-MODIFIED:20260211T173234Z
UID:6411-1776384000-1776556799@alphaimplant.hu
SUMMARY:Upgrade Kongresszus 2026
DESCRIPTION:Alpha Implant Kft. – az Alpha-Bio Tec. kizárólagos magyarországi forgalmazója főszponzorként az Upgrade Kongresszus 2026 rendezvényen\nAz Alpha Implant Kft.\, mint az Alpha-Bio Tec. kizárólagos magyarországi forgalmazója\, büszkén vesz részt főszponzorként a XI. Upgrade Kongresszus 2026 eseményén\, amely 2026. április 17–18-án kerül megrendezésre a HUNGEXPO Kongresszusi Központban. \nAz Upgrade Kongresszus az elmúlt két évtizedben a hazai fogászati szakma egyik meghatározó találkozási pontjává vált. A rendezvény kiemelt célja\, hogy a legújabb innovációkat\, technológiai fejlesztéseket és klinikai megoldásokat gyakorlati szemléletben mutassa be a szakemberek számára. Az Alpha Implant Kft. küldetése teljes mértékben összhangban áll ezzel a szemlélettel: elkötelezettek vagyunk a magas szakmai színvonal\, a megbízható implantológiai rendszerek és a hosszú távon kiszámítható megoldások mellett. \nAz Alpha-Bio Tec. világszerte elismert implantológiai rendszereit a precíz tervezhetőség\, a klinikai biztonság és a széles körű indikációs lehetőségek jellemzik. Termékeink és szakmai támogatásunk révén célunk\, hogy partnereink praxisai versenyképesek\, stabilak és jövőállóak maradjanak a dinamikusan fejlődő nemzetközi piacon is. \nA kongresszus ideje alatt szeretettel várjuk az érdeklődőket standunknál\, ahol: \n\n\nbemutatjuk az Alpha-Bio Tec. implantációs rendszereinek legújabb fejlesztéseit\, \n\n\ntájékoztatást nyújtunk digitális és sebészi protokollokról\, \n\n\nszakmai kérdésekre adunk választ gyakorlati szemléletben\, \n\n\nvalamint személyes konzultáció keretében is megismerhetik szolgáltatásainkat és támogatási lehetőségeinket. \n\n\nTalálkozzunk az Upgrade Kongresszus 2026 rendezvényen\, és építsük együtt a jövő fogászatát! \nVárjuk Önt standunknál! \n\nTovábbi információk: https://upgradecongress.hu/
URL:https://alphaimplant.hu/oktatas/upgrade-kongresszus-2026/
ATTACH;FMTTYPE=image/png:https://alphaimplant.hu/wp-content/uploads/2026/02/ChatGPT-Image-2026.-febr.-11.-18_31_53.png
END:VEVENT
END:VCALENDAR