BEGIN:VCALENDAR
VERSION:2.0
PRODID:-//Alpha Implant - ECPv6.15.18//NONSGML v1.0//EN
CALSCALE:GREGORIAN
METHOD:PUBLISH
X-WR-CALNAME:Alpha Implant
X-ORIGINAL-URL:https://alphaimplant.hu
X-WR-CALDESC:Események Alpha Implant
REFRESH-INTERVAL;VALUE=DURATION:PT1H
X-Robots-Tag:noindex
X-PUBLISHED-TTL:PT1H
BEGIN:VTIMEZONE
TZID:UTC
BEGIN:STANDARD
TZOFFSETFROM:+0000
TZOFFSETTO:+0000
TZNAME:UTC
DTSTART:20240101T000000
END:STANDARD
END:VTIMEZONE
BEGIN:VEVENT
DTSTART;TZID=UTC:20250320T083000
DTEND;TZID=UTC:20250320T150000
DTSTAMP:20260421T095555
CREATED:20241214T102544Z
LAST-MODIFIED:20250313T153724Z
UID:5531-1742459400-1742482800@alphaimplant.hu
SUMMARY:Sebészi varrattechnikák | Dr. Dr. Oberna Ferenc | TELTHÁZ
DESCRIPTION:Sebészi varrattechnikák\nElőadó: Dr. Dr. Oberna Ferenc\nIdőpont: 2025. március 20. 08:30-15:00\nKurzus díja: 49.000 Forint\nHelyszín: 1016 Budapest\, Mészáros utca 58. B épület\, 4. emelet\nAkkr. pont: 6 pont \nTematika\n08:30-09:00 \nÉrekzés \n9:00-11:50 \nA dento-alveoláris és a parodontális sebészetben alkalmazott varrattechnikák. \n11:50-12:30 \nEbédszünet \n12:30-14:00 \nHands-on kurzus sertés állcsonton \nKépek\n\n		\n		\n			\n				\n			\n			\n				\n			\n			\n				\n			\n			\n				\n			\n			\n				\n			\n			\n				\n			\n		\n\nJelentkezés\nA képzés teltházas!
URL:https://alphaimplant.hu/oktatas/sebeszi-varrattechnikak-dr-dr-oberna-ferenc-6-pont/
LOCATION:Alpha Implant Oktatási Központ\, Mészáros utca 58. B épület\, 4. emelet\, Budapest\, Pest\, 1016\, Magyarország
ATTACH;FMTTYPE=image/png:https://alphaimplant.hu/wp-content/uploads/2025/03/telthaz-2.png
END:VEVENT
END:VCALENDAR