BEGIN:VCALENDAR
VERSION:2.0
PRODID:-//Alpha Implant - ECPv6.15.18//NONSGML v1.0//EN
CALSCALE:GREGORIAN
METHOD:PUBLISH
X-WR-CALNAME:Alpha Implant
X-ORIGINAL-URL:https://alphaimplant.hu
X-WR-CALDESC:Események Alpha Implant
REFRESH-INTERVAL;VALUE=DURATION:PT1H
X-Robots-Tag:noindex
X-PUBLISHED-TTL:PT1H
BEGIN:VTIMEZONE
TZID:UTC
BEGIN:STANDARD
TZOFFSETFROM:+0000
TZOFFSETTO:+0000
TZNAME:UTC
DTSTART:20180101T000000
END:STANDARD
END:VTIMEZONE
BEGIN:VEVENT
DTSTART;VALUE=DATE:20191121
DTEND;VALUE=DATE:20191124
DTSTAMP:20260424T214508
CREATED:20190730T081636Z
LAST-MODIFIED:20190730T081636Z
UID:1965-1574294400-1574553599@alphaimplant.hu
SUMMARY:PAROimplant 2019. november 21-23
DESCRIPTION:
URL:https://alphaimplant.hu/oktatas/paroimplant-2019-november-21-23/
ATTACH;FMTTYPE=image/jpeg:https://alphaimplant.hu/wp-content/uploads/2019/07/66653067_1162364303951280_4800672241673043968_o.jpg
END:VEVENT
END:VCALENDAR