BEGIN:VCALENDAR
VERSION:2.0
PRODID:-//Alpha Implant - ECPv6.15.18//NONSGML v1.0//EN
CALSCALE:GREGORIAN
METHOD:PUBLISH
X-WR-CALNAME:Alpha Implant
X-ORIGINAL-URL:https://alphaimplant.hu
X-WR-CALDESC:Események Alpha Implant
REFRESH-INTERVAL;VALUE=DURATION:PT1H
X-Robots-Tag:noindex
X-PUBLISHED-TTL:PT1H
BEGIN:VTIMEZONE
TZID:UTC
BEGIN:STANDARD
TZOFFSETFROM:+0000
TZOFFSETTO:+0000
TZNAME:UTC
DTSTART:20230101T000000
END:STANDARD
END:VTIMEZONE
BEGIN:VEVENT
DTSTART;TZID=UTC:20241011T100000
DTEND;TZID=UTC:20241011T120000
DTSTAMP:20260424T052508
CREATED:20240903T132210Z
LAST-MODIFIED:20241003T103557Z
UID:5403-1728640800-1728648000@alphaimplant.hu
SUMMARY:Palatális megközelítés\, trans-sinus és implantátumok a pterygoid régióban | Dr. Pedro Moura | Dental World 2024  |  TELTHÁZ
DESCRIPTION:Dr. Pedro Moura workshop október 11-én\, 10:00-tól 12:00-ig I 5 kreditpont\nA komplex esetek kezeléséhez szükséges kifinomult technikák és stratégiák alapos feltárását kínálja ez a workshop. A résztvevők gyakorlati tapasztalatot szereznek a palatális megközelítésről\, egy olyan módszerről\, amely javítja az implantátum stabilitását és a kezelések eredményeit. A foglalkozás kitér az implantátumok használatára a pterygoid régióban\, és kihívást jelentő anatómiai helyzetekben mutatja be azok hatékonyságát a stabil alátámasztás biztosítása érdekében. Interaktív bemutatókon és gyakorlatokon keresztül a résztvevők megtanulják\, hogyan navigáljanak\, és miként kezeljék magabiztosan\, precízen az összetett sebészeti eseteket. Ennek az átfogó képzésnek az a célja\, hogy a fogászati szakembereket olyan készségekkel és ismeretekkel ruházza fel\, amelyek szükségesek a teljes íven történő implantáció esetében a kiemelkedő teljesítményhez és a kezelés sikerességéhez. \nÖnéletrajz\nDr. Pedro Moura is a member of the Board of the Portuguese Society of Implantology and Osteointegration (SOPIO). In 2014\, he founded and is currently the pedagogic coordinator at Foramen Dental Education\, a dental training center in Porto dedicated to educating dentists in all areas of dentistry. In collaboration with Foramen Dental Education\, he is also the Director of the Surgery and Clinical Residency Master’s program\, at Universidad Miguel Cervantes\, where he leads a team of residents over a 10-month education and training period. Dr. Moura lectures regularly at both national and international conferences and has been a keynote speaker at numerous events in the field of dental surgery\, including autologous grafts\, digital dentistry\, sinus lift\, full arch\, and mucogingival procedures. He owns and manages a clinical practice in Porto that is limited to surgery. \nJelentkezés\nJelentkezési lehetőség a Dental World oldalán található IDE KATTINTVA!\n(https://dentalworld.hu/jegyvasarlas/)
URL:https://alphaimplant.hu/oktatas/palatalis-megkozelites-trans-sinus-es-implantatumok-a-pterygoid-regioban-dental-world-2024/
ATTACH;FMTTYPE=image/png:https://alphaimplant.hu/wp-content/uploads/2024/09/Trans-sinus-ok.png
END:VEVENT
END:VCALENDAR