BEGIN:VCALENDAR
VERSION:2.0
PRODID:-//Alpha Implant - ECPv6.15.18//NONSGML v1.0//EN
CALSCALE:GREGORIAN
METHOD:PUBLISH
X-ORIGINAL-URL:https://alphaimplant.hu
X-WR-CALDESC:Események Alpha Implant
REFRESH-INTERVAL;VALUE=DURATION:PT1H
X-Robots-Tag:noindex
X-PUBLISHED-TTL:PT1H
BEGIN:VTIMEZONE
TZID:UTC
BEGIN:STANDARD
TZOFFSETFROM:+0000
TZOFFSETTO:+0000
TZNAME:UTC
DTSTART:20250101T000000
END:STANDARD
END:VTIMEZONE
BEGIN:VEVENT
DTSTART;TZID=UTC:20260305T083000
DTEND;TZID=UTC:20260305T150000
DTSTAMP:20260422T083735
CREATED:20251203T203854Z
LAST-MODIFIED:20260211T163347Z
UID:6258-1772699400-1772722800@alphaimplant.hu
SUMMARY:Sebészi varrattechnikák | Teltház
DESCRIPTION:Sebészi varrattechnikák\nElőadó: Dr. Dr. Oberna Ferenc\nIdőpont: 2026. március 05. 08:30-15:00\nKurzus díja: 49.000 Forint\n(Amennyiben rezidensként jelentkezik\, 20% kedvezményt kap a képzés árából.)\nHelyszín: 1016 Budapest\, Mészáros utca 58. B épület\, 4. emelet\nAkkr. pont: A képzés után 6 pont kapható \nTematika\n08:30-09:00 \nÉrekzés \n9:00-11:50 \nA dento-alveoláris és a parodontális sebészetben alkalmazott varrattechnikák. \n11:50-12:30 \nEbédszünet \n12:30-14:00 \nHands-on kurzus sertés állcsonton \nKépek\n\n		\n		\n			\n				\n			\n			\n				\n			\n			\n				\n			\n			\n				\n			\n			\n				\n			\n			\n				\n			\n		\n\nJelentkezés\nA képzés teltházas
URL:https://alphaimplant.hu/oktatas/260305-sebeszi-varrattechnikak/
LOCATION:Alpha Implant Oktatási Központ\, Mészáros utca 58. B épület\, 4. emelet\, Budapest\, Pest\, 1016\, Magyarország
ATTACH;FMTTYPE=image/png:https://alphaimplant.hu/wp-content/uploads/2025/12/seb_var_marc_5.png
END:VEVENT
BEGIN:VEVENT
DTSTART;TZID=UTC:20260306T160000
DTEND;TZID=UTC:20260306T190000
DTSTAMP:20260422T083735
CREATED:20251203T204332Z
LAST-MODIFIED:20260210T142003Z
UID:6273-1772812800-1772823600@alphaimplant.hu
SUMMARY:GBT kurzus | AKKREDITÁLT elméleti és gyakorlati képzés |  Teltház
DESCRIPTION:GBT kurzus\nFogorvosoknak 6 pont kapható érte\, alapnyilvántartási számmal rendelkező dentálhigiénikusok számára\, 13 pont kapható érte!\nElőadók: Dr. Kemper Róbert\, Dr. Komarek Edit\nIdőpont: 2026. március 06. 16:00-19:00\nKurzus díja: 39.000 Forint (egy rendelőből érkezőknek 35 000 Ft / fő)\n(Amennyiben rezidensként jelentkezik\, 20% kedvezményt kap a képzés árából.)\nHelyszín: 1072 Budapest\, Dob u. 52\, Parodont Fogorvosi Rendelő\, Első emelet 1. (20-as kapukód)\nPontok: A képzés akkreditált\, fogorvosoknak 6 pont kapható érte\, alapnyilvántartási számmal rendelkező dentálhigiénikusok számára\, 13 pont kapható érte! \n\nKlinikai fogászati higiénikusoknak és fogorvosoknak\nAmiben többet nyújt\, mint a hagyományos fogkőeltávolítás: \n1. Professzionális szájhigiénia érzéstelenítés nélkül. \n2. Koncepcióváltást hoz a parodontális terápiában. \n3. Periimplantitis terápiás lehetőségét biztosítja. \n4. Rögzített fogszabályozó készülékek mellett is professzionális szájhigiénés kezelést biztosít. \n  \nA biofilm szerepe az orális higiénia szempontjából. Guided Biofilm Therapy (GBT). \nMilyen terápiás lehetőségekkel rendelkezünk? \nA GBT jelentősége a periimplantitis szempontjából. \nJelentkezés\nA képzés teltházas
URL:https://alphaimplant.hu/oktatas/260306-gbt/
LOCATION:Parodont Fogorvosi Rendelő\, Dob u. 52.\, Budapest\, Budapest\, 1072\, Magyarország
ATTACH;FMTTYPE=image/png:https://alphaimplant.hu/wp-content/uploads/2025/12/gbt-marc-solout.png
END:VEVENT
BEGIN:VEVENT
DTSTART;TZID=UTC:20260307T083000
DTEND;TZID=UTC:20260307T160000
DTSTAMP:20260422T083735
CREATED:20260119T200258Z
LAST-MODIFIED:20260123T104759Z
UID:6358-1772872200-1772899200@alphaimplant.hu
SUMMARY:Smilezor Academy konferencia | 7 pont
DESCRIPTION:A Smilezor Academy konferencia az év egyik kiemelkedő szakmai eseménye a fogszabályozás és az aligner-terápiák területén. Az egész napos rendezvény átfogó\, gyakorlatorientált betekintést nyújt az aligner rendszerek klinikai\, jogi és üzleti alkalmazásába\, elismert hazai szakemberek előadásaival. \nA konferencia során szó lesz többek között a II. osztályú eltérések kezeléséről\, az aligner-terápia lehetőségeiről és korlátairól\, jogi vonatkozásairól\, valamint a praxisban történő hatékony alkalmazás üzleti aspektusairól. Az esemény célja\, hogy a résztvevők naprakész tudással\, gyakorlati szemlélettel és azonnal hasznosítható tapasztalatokkal térjenek haza. \n📍 Helyszín: Kempinski Hotel Corvinus\, Budapest\n📅 Időpont: 2026. március 7. (08:30–16:00)\n🎓 Kreditpont: 7\n👥 Előadók száma: 6 elismert szakember \nA jegyár tartalmazza a konferencián való részvételt\, az ebédet\, valamint a kávé- és italfogyasztást. A helyszínen jegyvásárlásra nincs lehetőség. \n👉 További információk és jelentkezés: https://smilezoracademy.hu/
URL:https://alphaimplant.hu/oktatas/smilezor-academy-konferencia/
ATTACH;FMTTYPE=image/jpeg:https://alphaimplant.hu/wp-content/uploads/2026/01/101-1200x1200-1.jpg
END:VEVENT
BEGIN:VEVENT
DTSTART;TZID=UTC:20260312T090000
DTEND;TZID=UTC:20260312T180000
DTSTAMP:20260422T083735
CREATED:20260224T200908Z
LAST-MODIFIED:20260225T093006Z
UID:6440-1773306000-1773338400@alphaimplant.hu
SUMMARY:BioScience Lip Filler Masterclass Ajakformálás hialuronsavval - precíz technikák és gyakorlati szemlélet | Dr. László Adrienne
DESCRIPTION:Előadó: Dr. László Adrienne\nIdőpont: 2026. március 12.  09:00- 18:00\nKurzus díja: 250.000 Ft  (Amelyből 150.000 Ft levásárolható)\nHelyszín: 1016 Budapest\, Mészáros utca 58. B épület\, 4. emelet \nProgram\n#1 BLOKK\n09:00 – 10:15 Elméleti alapok \n\nAz ajak anatómiája\nHialuronsav tulajdonságai\, reológiai paraméterek (G’\, viszkozitás\, kohézió)\nSzöveti integráció és tartósság\nIndikációk és kontraindikációk\nKomplikáció management\n\n10:15 – 10:30 Kávészünet \n#2 BLOKK\n10:30 – 12:30 Technikák és esztétikai tervezés \n\nTechnikák és mélységek: tűs és kanülös megközelítések\nFormázási koncepciók: volumenépítés és kontúrozás\nModern ajakformálási technikák (Russian Lips\, Baby Doll Lips\, Cupidó-ív)\nStrukturális és esztétikai célú töltési stratégiák\nStandardizált fotó- és orvosi dokumentáció\n\n12:30-13:00 Ebédszünet \n#3 BLOKK\n13:00-18:00 Hands-on \n\nAjaktöltés saját modellen\, felügyelet mellett\nAnatómiai orientáció élő modellen\nTechnikák gyakorlati kivitelezése\nKezelési protokollok betartása\nInstruktori korrekciók és visszajelzés\n\nJelentkezés:
URL:https://alphaimplant.hu/oktatas/260312-bioscience/
ATTACH;FMTTYPE=image/png:https://alphaimplant.hu/wp-content/uploads/2026/02/AI_event_260312_1080x1080.png
END:VEVENT
BEGIN:VEVENT
DTSTART;TZID=UTC:20260316T083000
DTEND;TZID=UTC:20260316T140000
DTSTAMP:20260422T083735
CREATED:20251203T204750Z
LAST-MODIFIED:20251215T105416Z
UID:6255-1773649800-1773669600@alphaimplant.hu
SUMMARY:3/3 Komplikált implantációk | Dr. Kemper Róbert | 7 pont
DESCRIPTION:3/3 Komplikált implantációk\n\nElőadó: Dr. Kemper Róbert\nIdőpont: 2026. március 16. – 09:00-15:00\nKurzus díja: A három rész egyben 229.000 Forint\, egy kurzus díja 89.000 Forint\n(Amennyiben rezidensként jelentkezik\, 20% kedvezményt kap a képzés árából.)\nHelyszín: 1016 Budapest\, Mészáros utca 58. B épület\, 4. emelet\nAkkr. pont: 21 pont\, amennyiben mind a három képzést teljesíti\nJELENTKEZÉS: Kérjük mind a három képzésre\, külön-külön jelentkezzen! \nTematika:\n08:30 – 09:00\nÉrkezés \n09:00 – 09:40\nImplantátum behelyezésének időzítése\n\nAzonnali implantáció\nKésleltetett implantáció kontúr-augmentációval\nKésői implantáció „veszélyei” – csontlebomlás folyamata\n\n09:40 – 10:30\n\nHorizontális és vertikális augmentációk lehetőségei\, elméleti alapjai\n\n10:30 – 11:00\nSzünet \n11:00 – 11:40\nParodontológiai páciensek implantológiai ellátása\n\nRizikóanalízis (PRA)\nParodontológiai előkészítés\n Hosszútávú parodontológiai gondozás\n\n11:40 – 12:30\nEbédszünet \n12:30 – 13:10\n\nImplantátumok körüli lágyrészek sebészete\nPeriimplantitis sebészi ellátásának lehetőségei és korlátai\n\n13:10 – 14:00\nHands-on:\n\nKontúraugmentáció műanyag modellen (Buser protokoll)\n\nJelentkezés\n \n 
URL:https://alphaimplant.hu/oktatas/260316-komplikalt-implantaciok/
LOCATION:Alpha Implant Oktatási Központ\, Mészáros utca 58. B épület\, 4. emelet\, Budapest\, Pest\, 1016\, Magyarország
ATTACH;FMTTYPE=image/png:https://alphaimplant.hu/wp-content/uploads/2025/12/AI_event_2026_1_1080x10809.png
ORGANIZER;CN="Alpha Implant Kft.":MAILTO:oktatas@alphaimplant.hu
END:VEVENT
BEGIN:VEVENT
DTSTART;TZID=UTC:20260325T140000
DTEND;TZID=UTC:20260325T170000
DTSTAMP:20260422T083735
CREATED:20260210T144445Z
LAST-MODIFIED:20260210T144445Z
UID:6399-1774447200-1774458000@alphaimplant.hu
SUMMARY:Smilezor aligner rendszerbemutató | Dr. Fekete Bernadett
DESCRIPTION:Előadó: Dr. Fekete Bernadett\nDátum: 2026. március 25. 14:00-17:00\nHelyszín: Alpha Implant Oktatási Központ | 1016 Budapest\, Mészáros utca 58. B épület\, 4. emelet\nKépzés díja: INGYENES \nBemutatásra kerül a Smilezor aligner rendszer\, esetek és megoldási lehetőségek\, valamint a SmilezorPlan és Smilezor kezelések folyamata. \nJelentkezés:
URL:https://alphaimplant.hu/oktatas/smilezor-aligner-rendszerbemutato-dr-fekete-bernadett-2/
LOCATION:Alpha Implant Oktatási Központ\, Mészáros utca 58. B épület\, 4. emelet\, Budapest\, Pest\, 1016\, Magyarország
ATTACH;FMTTYPE=image/png:https://alphaimplant.hu/wp-content/uploads/2026/02/AI_event_2026_0325_1080x1080.png
END:VEVENT
BEGIN:VEVENT
DTSTART;TZID=UTC:20260326T150000
DTEND;TZID=UTC:20260326T180000
DTSTAMP:20260422T083735
CREATED:20251203T215847Z
LAST-MODIFIED:20251215T105545Z
UID:6292-1774537200-1774548000@alphaimplant.hu
SUMMARY:Navigációs Alapozó Kurzus | dicomLAB\, Dr. Varga Endre | 5 pont
DESCRIPTION:Előadó: Dr. Varga Endre – dicomLAB\nIdőpont: 2026. március 26. 15:00-18:00\nKurzus díja: INGYENES (Regisztrációhoz kötött)\nHelyszín: 1016 Budapest\, Mészáros utca 58. B épület\, 4. emelet \nA képzés akkreditált\, 5 pont kapható érte. \nA Navigációs Alapozó Kurzus azzal a céllal kerül megrendezésre\, hogy átfogó képet nyújtson a legmodernebb műtéti tervező és sablonvezérelt technológiákról\, amelyek segítségével az implantációs beavatkozások kiszámíthatóbbá\, pontosabbá és hatékonyabbá válhatnak. A kurzus során a résztvevők megismerkednek a dicomLAB rendszer működésével\, és elsajátítják annak alkalmazását\, hogy magabiztosan beépíthessék azt mindennapi rendelői rutinjukba. \nA kurzus során a résztvevők az alábbi területekkel ismerkedhetnek meg: \n\ndicomLAB Platform és online műtéti tervező bemutatása:\nA kurzus részletesen bemutatja\, hogyan használható a platform az implantációs beavatkozások precíz megtervezésére\, beleértve az esetindítást\, valamint a CBCT és IOS képalkotási protokollokat.\nMűtéti sablonok és műtéti tálcák alkalmazása:\nA résztvevők megismerik a sablonvezérelt műtétek folyamatát\, és betekintést nyernek azok előnyeibe\, valamint megismerkednek a dicomLAB saját fejlesztésű Universal Guided Kit műtéti tálcájával\, az Alpha-Bio Guided Surgery Tool Kit műtéti tálcájával és a kapcsolódó műtéti protokollokkal is.\nChairside megoldások:\nA kurzus kitér a szék melletti munka során alkalmazható eszközökre és technológiákra\, ideértve a sablonok és fogpótlások STL-formátumból történő előállítását.\nStackable Guide technológia alapjai:\nA kurzus bemutatja ennek az innovatív technológiának az alapjait\, melyről részletes ismertetés és gyakorlati bemutató a Haladó Kurzuson történik.\n\nGyakorlati elemek a kurzuson: \n\nEsetbemutatások:\nKlinikai példák bemutatásán keresztül a dicomLAB rendszer gyakorlati alkalmazásának megértése.\nSzoftveres gyakorlatok:\nInteraktív képzésünk során a résztvevők lehetőséget kapnak a dicomLAB tervezőrendszer kipróbálására.\n\nKiknek ajánljuk? \n\nAzoknak a fogorvosoknak és implantológusoknak\, akik szeretnék megismerni a sablonvezérelt implantáció alapjait és kezdeti lépéseit.\nKezdő implantológusoknak\, akik még nem használtak sablonvezérelt rendszereket\, de szeretnék biztonságosan és hatékonyan alkalmazni ezeket a megoldásokat.\nTapasztaltabb szakembereknek\, akik szeretnék fejleszteni tudásukat és naprakész információkat kapni a modern implantációs technológiákról.\n\nKérjük\, hozzanak magukkal saját laptopot! (A rendszer Mac-en is működik\, de fontos\, hogy a Google Chrome böngésző legyen telepítve.) \nA kurzus ingyenes\, de regisztrációhoz kötött. \nJelentkezés
URL:https://alphaimplant.hu/oktatas/260326-navigacios-alapozo-kurzus/
LOCATION:Alpha Implant Oktatási Központ\, Mészáros utca 58. B épület\, 4. emelet\, Budapest\, Pest\, 1016\, Magyarország
ATTACH;FMTTYPE=image/png:https://alphaimplant.hu/wp-content/uploads/2025/12/AI_event_2026_1_1080x108010.png
END:VEVENT
END:VCALENDAR