BEGIN:VCALENDAR
VERSION:2.0
PRODID:-//Alpha Implant - ECPv6.15.18//NONSGML v1.0//EN
CALSCALE:GREGORIAN
METHOD:PUBLISH
X-WR-CALNAME:Alpha Implant
X-ORIGINAL-URL:https://alphaimplant.hu
X-WR-CALDESC:Események Alpha Implant
REFRESH-INTERVAL;VALUE=DURATION:PT1H
X-Robots-Tag:noindex
X-PUBLISHED-TTL:PT1H
BEGIN:VTIMEZONE
TZID:UTC
BEGIN:STANDARD
TZOFFSETFROM:+0000
TZOFFSETTO:+0000
TZNAME:UTC
DTSTART:20230101T000000
END:STANDARD
END:VTIMEZONE
BEGIN:VEVENT
DTSTART;TZID=UTC:20240905T080000
DTEND;TZID=UTC:20240905T150000
DTSTAMP:20260423T171306
CREATED:20240512T134714Z
LAST-MODIFIED:20240523T055759Z
UID:5194-1725523200-1725548400@alphaimplant.hu
SUMMARY:Sebészi varrattechnikák | Dr. Dr. Oberna Ferenc | 6 pont
DESCRIPTION:Sebészi varrattechnikák\nElőadó: Dr. Dr. Oberna Ferenc\nIdőpont: 2024.09.05\nKurzus díja: 49.000 Forint\nHelyszín: 1016 Budapest\, Mészáros utca 58. B épület\, 4. emelet\nPontok: A képzés akkreditált\, 6 pont kapható érte. \nTematika\n08:30-09:00 \nÉrekzés \n9:00-11:50 \nA dento-alveoláris és a parodontális sebészetben alkalmazott varrattechnikák. \n11:50-12:30 \nEbédszünet \n12:30-14:00 \nHands-on kurzus sertés állcsonton \nKépek\n\n		\n		\n			\n				\n			\n			\n				\n			\n			\n				\n			\n			\n				\n			\n			\n				\n			\n			\n				\n			\n		\n\nJelentkezés
URL:https://alphaimplant.hu/oktatas/24-09-05-sebeszi-varrattechnikak/
LOCATION:Alpha Implant Oktatási Központ\, Mészáros utca 58. B épület\, 4. emelet\, Budapest\, Pest\, 1016\, Magyarország
ATTACH;FMTTYPE=image/png:https://alphaimplant.hu/wp-content/uploads/2024/05/AI_event_2024_2_1336x700.png
ORGANIZER;CN="Alpha Implant Kft.":MAILTO:oktatas@alphaimplant.hu
END:VEVENT
BEGIN:VEVENT
DTSTART;VALUE=DATE:20240912
DTEND;VALUE=DATE:20240915
DTSTAMP:20260423T171306
CREATED:20240619T141118Z
LAST-MODIFIED:20240902T064215Z
UID:5350-1726099200-1726358399@alphaimplant.hu
SUMMARY:BETELT | ALPHA EXPERTS' DAYS 2024 – SOPRON
DESCRIPTION:Kedves Ügyfelünk!\nSzeretettel meghívunk cégünk fennállásának 15. évfordulója alkalmából szervezett továbbképzésünkre és baráti találkozónkra! \nImmár 2009 óta vagyunk jelen Magyarországon az Alpha-Bio Tec implantátum rendszerrel és más olyan vezető gyártók termékeivel\, mint a Geistlich\, EMS\, Osteogenics\, Dynamic Abutments\, Hu-Friedy. \nAz elmúlt évek sikereinek Te is részese vagy\, ezért szeretnénk évfordulónkat az eredményekhez méltóan Veled együtt megünnepelni. Két napos\, 18 pontra akkreditált előadás sorozatot szerveztünk\, amelynek keretében elismert és kiváló kollégáktól hallhatod a legfrissebb információkat és mélyítheted el tudásodat. A társasági programok pedig lehetőséget adnak egymás jobb megismerésére\, közös élmények szerzésére. \nTarts velünk\, hogy együtt tapasztaljuk meg az „Alpha-Bio életérzést”! \n  \nBővebb információ\, program és regisztráció az alábbi linken: \nAlpha Experts Days 2024
URL:https://alphaimplant.hu/oktatas/alpha-experts-days-2024-sopron/
LOCATION:Pest
ATTACH;FMTTYPE=image/jpeg:https://alphaimplant.hu/wp-content/uploads/2024/02/sopron3.jpg
END:VEVENT
BEGIN:VEVENT
DTSTART;TZID=UTC:20240919T083000
DTEND;TZID=UTC:20240919T140000
DTSTAMP:20260423T171306
CREATED:20240512T135207Z
LAST-MODIFIED:20240528T084123Z
UID:5209-1726734600-1726754400@alphaimplant.hu
SUMMARY:1/3 Implantáció alapjai és lépései | Dr. Heinrich Kevin | 12 pont*
DESCRIPTION:1/3 Implantáció alapjai és lépései\n\nElőadó: Dr. Heinrich Kevin\nIdőpont: 2024.09.19 – 09:00 – 15:00\nKurzus díja: A három rész egyben 229.000 Forint\, egy kurzus díja 89.000 Forint\nHelyszín: 1016 Budapest\, Mészáros utca 58. B épület\, 4. emelet\nAkkr. pont: *12 pont\, amennyiben mind a három képzést teljesíti\nJELENTKEZÉS: Kérjük mind a három képzésre\, külön-külön jelentkezzen! \nTematika:\n09:00 – 10:30\nAz implantológia biológiai alapjai: \n\nOsszeointegráció fogalma\, feltételei\nFogeltávolítást / sebészi behelyezést követő sebgyógyulás folyamata\nCsontminőség\nImplantátumok körüli lágyszövetek anatómiája\nFogak és implantátumok körüli szövetek összehasonlítása\n\nAnamnézis\, diagnosztika\, képalkotó vizsgálatok: \n\nÁltalános és fogászati anamnézis felvétele\nImplantáció abszolút és relatív kontraindikációi (+vérzékeny és biszfoszfonát-kezelt páciensek ellátása\nTájékozott beleegyezés\nRöntgendiagnosztika\, cbct értékelése\n\n10:30 – 10:45\n\nSzünet\n\n10:45 – 12:00\nKülönböző foghiány-típusok implantológiai ellátása (csak sebészi szempontból) \n\nEgyszeres foghiány\nTöbbszörös foghiányok ellátása\nTeljes foghiány implantológiai ellátása\n\nImplantáció lépései \n\nImplantáció tárgyi és személyi feltételei\, eszközök bemutatása\nAz implantológiai műtő felépítése\, sterilizálás\nPáciens előkészítése implantációhoz\nEgyszerű implantáció menete\nNyitott / zárt implantátum gyógyulás\nImplantátum felszabadítás\nMűtét utáni tájékoztatás\n\nImplantáció komplikációi \n12:00 – 12:30\n\nEbédszünet\n\n12:30 – 14:00\nHands-on\n\nImplantátum behelyezése (műanyag állcsontba)\n\nJelentkezés
URL:https://alphaimplant.hu/oktatas/24-09-19-1-3-implantacio-alapjai-es-lepesei-dr-heinrich-kevin/
LOCATION:Alpha Implant Oktatási Központ\, Mészáros utca 58. B épület\, 4. emelet\, Budapest\, Pest\, 1016\, Magyarország
ATTACH;FMTTYPE=image/png:https://alphaimplant.hu/wp-content/uploads/2024/05/AI_event_2024_2_1336x7003.png
ORGANIZER;CN="Alpha Implant Kft.":MAILTO:oktatas@alphaimplant.hu
END:VEVENT
BEGIN:VEVENT
DTSTART;TZID=UTC:20240920T160000
DTEND;TZID=UTC:20240920T190000
DTSTAMP:20260423T171306
CREATED:20240512T134946Z
LAST-MODIFIED:20240918T130913Z
UID:5207-1726848000-1726858800@alphaimplant.hu
SUMMARY:GBT kurzus | AKKREDITÁLT elméleti és gyakorlati képzés | 13 PONT | TELTHÁZ
DESCRIPTION:GBT kurzus | AKKREDITÁLT elméleti és gyakorlati képzés | Dr. Kemper Róbert\, Dr. Komarek Edit\nElőadók: Dr. Kemper Róbert\, Dr. Komarek Edit\nIdőpont: 2024.09.20. 16:00-19:00\nKurzus díja: 29.000 Forint (egy rendelőből érkezőknek 25 000 Ft / fő)\nHelyszín: 1072 Budapest\, Dob u. 52\, Parodont Fogorvosi Rendelő\, Első emelet 1. (20-as kapukód)\nPontok: A képzés akkreditált\, alapnyilvántartási számmal rendelkező dentálhigiénikusok számára\, 13 pont kapható érte! \n\nKlinikai fogászati higiénikusoknak és fogorvosoknak\nAmiben többet nyújt\, mint a hagyományos fogkőeltávolítás: \n1. Professzionális szájhigiénia érzéstelenítés nélkül. \n2. Koncepcióváltást hoz a parodontális terápiában. \n3. Periimplantitis terápiás lehetőségét biztosítja. \n4. Rögzített fogszabályozó készülékek mellett is professzionális szájhigiénés kezelést biztosít. \n  \nA biofilm szerepe az orális higiénia szempontjából. Guided Biofilm Therapy (GBT). \nMilyen terápiás lehetőségekkel rendelkezünk? \nA GBT jelentősége a periimplantitis szempontjából. \nBETELT
URL:https://alphaimplant.hu/oktatas/24-09-06-gbt-kurzus-elmeleti-es-gyakorlati-kepzes/
LOCATION:Pest
ATTACH;FMTTYPE=image/png:https://alphaimplant.hu/wp-content/uploads/2024/05/gbt-9-20-2.png
END:VEVENT
BEGIN:VEVENT
DTSTART;TZID=UTC:20240926T083000
DTEND;TZID=UTC:20240926T140000
DTSTAMP:20260423T171306
CREATED:20240512T135441Z
LAST-MODIFIED:20240528T084008Z
UID:5211-1727339400-1727359200@alphaimplant.hu
SUMMARY:2/3 Implantációs protetikai lehetőségek | Dr. Komarek Edit | 12 pont*
DESCRIPTION:2/3 Implantációs protetikai lehetőségek\n\nElőadó: Dr. Komarek Edit\nIdőpont: 2024.09.26. – 09:00-15:00\nKurzus díja: A három rész egyben 229.000 Forint\, egy kurzus díja 89.000 Forint\nHelyszín: 1016 Budapest\, Mészáros utca 58. B épület\, 4. emelet\nAkkr. pont: *12 pont\, amennyiben mind a három képzést teljesíti\nJELENTKEZÉS: Kérjük mind a három képzésre\, külön-külön jelentkezzen! \nTematika:  \n08.30 – 09.00\nÉrkezés \n09:00 – 10:00 \nSzóló foghiányok ellátása\n\n Cementezett / csavarozott implantológiai megoldások\n Lenyomatvétel típusai\n Fogtechnikai munkafázisok rövid ismertetése\n Hagyományos / CAD/CAM eljárások\n Frontrégió esztétikus protetikája\n\n10:00 – 10:30 \nSzünet \n10:30 – 11:45 \nTöbbszörös sorközi és sorvégi hiányok ellátása\n\nCementezett / csavarozott protetika\n\n11:45 – 12:30 \nEbédszünet \n12:30 – 13:00 \nTeljes foghiány implantációs protetikai lehetőségei         \n\nKivehető fogpótlások implantátumokra (patent-rendszerek\, stéges megoldások)\nRögzített fogpótlások implantátumokra (hídprotézisek\, All-on-4)\n\n13:00 – 14:00 \nHands-on\n\nProtetikai alkatrészek bemutatása\, lenyomatvételi eljárások\n\nJelentkezés
URL:https://alphaimplant.hu/oktatas/24-09-26-2-3-implantacios-protetikai-lehetosegek-dr-komarek-edit/
LOCATION:Alpha Implant Oktatási Központ\, Mészáros utca 58. B épület\, 4. emelet\, Budapest\, Pest\, 1016\, Magyarország
ATTACH;FMTTYPE=image/png:https://alphaimplant.hu/wp-content/uploads/2024/05/AI_event_2024_2_1336x7004.png
ORGANIZER;CN="Alpha Implant Kft.":MAILTO:oktatas@alphaimplant.hu
END:VEVENT
END:VCALENDAR