BEGIN:VCALENDAR
VERSION:2.0
PRODID:-//Alpha Implant - ECPv6.15.18//NONSGML v1.0//EN
CALSCALE:GREGORIAN
METHOD:PUBLISH
X-ORIGINAL-URL:https://alphaimplant.hu
X-WR-CALDESC:Események Alpha Implant
REFRESH-INTERVAL;VALUE=DURATION:PT1H
X-Robots-Tag:noindex
X-PUBLISHED-TTL:PT1H
BEGIN:VTIMEZONE
TZID:UTC
BEGIN:STANDARD
TZOFFSETFROM:+0000
TZOFFSETTO:+0000
TZNAME:UTC
DTSTART:20230101T000000
END:STANDARD
END:VTIMEZONE
BEGIN:VEVENT
DTSTART;TZID=UTC:20240613T083000
DTEND;TZID=UTC:20240613T140000
DTSTAMP:20260423T224241
CREATED:20231212T114114Z
LAST-MODIFIED:20240220T101516Z
UID:4943-1718267400-1718287200@alphaimplant.hu
SUMMARY:2/3 Implantációs protetikai lehetőségek | Dr. Komarek Edit | 16 pont*
DESCRIPTION:2/3 Implantációs protetikai lehetőségek\n\nElőadó: Dr. Komarek Edit\nIdőpont: 2024.06.13.\nKurzus díja: A három rész egyben 199.000 Forint\, egy kurzus díja 79.000 Forint\nHelyszín: 1016 Budapest\, Mészáros utca 58. B épület\, 4. emelet\nAkkr. pont: *16 pont\, amennyiben mind a három képzést teljesíti \nTematika:  \n08.30 – 09.00\nÉrkezés \n09:00 – 10:00 \nSzóló foghiányok ellátása\n\n Cementezett / csavarozott implantológiai megoldások\n Lenyomatvétel típusai\n Fogtechnikai munkafázisok rövid ismertetése\n Hagyományos / CAD/CAM eljárások\n Frontrégió esztétikus protetikája\n\n10:00 – 10:30 \nSzünet \n10:30 – 11:45 \nTöbbszörös sorközi és sorvégi hiányok ellátása\n\nCementezett / csavarozott protetika\n\n11:45 – 12:30 \nEbédszünet \n12:30 – 13:00 \nTeljes foghiány implantációs protetikai lehetőségei         \n\nKivehető fogpótlások implantátumokra (patent-rendszerek\, stéges megoldások)\nRögzített fogpótlások implantátumokra (hídprotézisek\, All-on-4)\n\n13:00 – 14:00 \nHands-on\n\nProtetikai alkatrészek bemutatása\, lenyomatvételi eljárások\n\nJelentkezés
URL:https://alphaimplant.hu/oktatas/240613-implant-alap-2/
LOCATION:Alpha Implant Oktatási Központ\, Mészáros utca 58. B épület\, 4. emelet\, Budapest\, Pest\, 1016\, Magyarország
ATTACH;FMTTYPE=image/png:https://alphaimplant.hu/wp-content/uploads/2023/12/AI_event_2024_1_1336x70010.png
ORGANIZER;CN="Alpha Implant Kft.":MAILTO:oktatas@alphaimplant.hu
END:VEVENT
BEGIN:VEVENT
DTSTART;TZID=UTC:20240627T083000
DTEND;TZID=UTC:20240627T140000
DTSTAMP:20260423T224241
CREATED:20231212T114304Z
LAST-MODIFIED:20240528T075055Z
UID:4945-1719477000-1719496800@alphaimplant.hu
SUMMARY:3/3 Komplikált implantációk | Dr. Kemper Róbert | 16 pont*
DESCRIPTION:3/3 Komplikált implantációk\n\nElőadó: Dr. Kemper Róbert\nIdőpont: 2024.06.27.\nKurzus díja: A három rész egyben 199.000 Forint\, egy kurzus díja 79.000 Forint\nHelyszín: 1016 Budapest\, Mészáros utca 58. B épület\, 4. emelet\nAkkr. pont: *16 pont\, amennyiben mind a három képzést teljesíti \nTematika:\n08:30 – 09:00\nÉrkezés \n09:00 – 09:40\nImplantátum behelyezésének időzítése\n\nAzonnali implantáció\nKésleltetett implantáció kontúr-augmentációval\nKésői implantáció „veszélyei” – csontlebomlás folyamata\n\n09:40 – 10:30\n\nHorizontális és vertikális augmentációk lehetőségei\, elméleti alapjai\n\n10:30 – 11:00\nSzünet \n11:00 – 11:40\nParodontológiai páciensek implantológiai ellátása\n\nRizikóanalízis (PRA)\nParodontológiai előkészítés\n Hosszútávú parodontológiai gondozás\n\n11:40 – 12:30\nEbédszünet \n12:30 – 13:10\n\nImplantátumok körüli lágyrészek sebészete\nPeriimplantitis sebészi ellátásának lehetőségei és korlátai\n\n13:10 – 14:00\nHands-on:\n\nKontúraugmentáció műanyag modellen (Buser protokoll)\n\nJelentkezés
URL:https://alphaimplant.hu/oktatas/240627-implant-alap-3/
LOCATION:Alpha Implant Oktatási Központ\, Mészáros utca 58. B épület\, 4. emelet\, Budapest\, Pest\, 1016\, Magyarország
ATTACH;FMTTYPE=image/png:https://alphaimplant.hu/wp-content/uploads/2023/12/AI_event_2024_1_1336x70011.png
ORGANIZER;CN="Alpha Implant Kft.":MAILTO:oktatas@alphaimplant.hu
END:VEVENT
END:VCALENDAR