BEGIN:VCALENDAR
VERSION:2.0
PRODID:-//Alpha Implant - ECPv6.15.18//NONSGML v1.0//EN
CALSCALE:GREGORIAN
METHOD:PUBLISH
X-WR-CALNAME:Alpha Implant
X-ORIGINAL-URL:https://alphaimplant.hu
X-WR-CALDESC:Események Alpha Implant
REFRESH-INTERVAL;VALUE=DURATION:PT1H
X-Robots-Tag:noindex
X-PUBLISHED-TTL:PT1H
BEGIN:VTIMEZONE
TZID:UTC
BEGIN:STANDARD
TZOFFSETFROM:+0000
TZOFFSETTO:+0000
TZNAME:UTC
DTSTART:20220101T000000
END:STANDARD
END:VTIMEZONE
BEGIN:VEVENT
DTSTART;TZID=UTC:20231005T083000
DTEND;TZID=UTC:20231005T140000
DTSTAMP:20260424T124107
CREATED:20230606T185543Z
LAST-MODIFIED:20230608T193044Z
UID:4773-1696494600-1696514400@alphaimplant.hu
SUMMARY:2/3 Implantációs protetikai lehetőségek | Dr. Komarek Edit | 18 pont*
DESCRIPTION:2/3 Implantációs protetikai lehetőségek\n\nElőadó: Dr. Komarek Edit\nIdőpont: 2023.10.05.\nKurzus díja: 199.000 Forint (A három rész egyben)\nHelyszín: 1016 Budapest\, Mészáros utca 58. B épület\, 4. emelet\nAkkr. pont: *18 pont\, amennyiben mind a három képzést teljesíti \nTematika:  \n08.30 – 09.00\nÉrkezés \n09:00 – 10:00 \nSzóló foghiányok ellátása\n\n Cementezett / csavarozott implantológiai megoldások\n Lenyomatvétel típusai\n Fogtechnikai munkafázisok rövid ismertetése\n Hagyományos / CAD/CAM eljárások\n Frontrégió esztétikus protetikája\n\n10:00 – 10:30 \nSzünet \n10:30 – 11:45 \nTöbbszörös sorközi és sorvégi hiányok ellátása\n\nCementezett / csavarozott protetika\n\n11:45 – 12:30 \nEbédszünet \n12:30 – 13:00 \nTeljes foghiány implantációs protetikai lehetőségei         \n\nKivehető fogpótlások implantátumokra (patent-rendszerek\, stéges megoldások)\nRögzített fogpótlások implantátumokra (hídprotézisek\, All-on-4)\n\n13:00 – 14:00 \nHands-on\n\nProtetikai alkatrészek bemutatása\, lenyomatvételi eljárások\n\nJelentkezés
URL:https://alphaimplant.hu/oktatas/23-10-05-implant-alap-2/
LOCATION:Alpha Implant Oktatási Központ\, Mészáros utca 58. B épület\, 4. emelet\, Budapest\, Pest\, 1016\, Magyarország
ATTACH;FMTTYPE=image/png:https://alphaimplant.hu/wp-content/uploads/2023/05/AI_event_2023_2_1336x7005.png
ORGANIZER;CN="Alpha Implant Kft.":MAILTO:oktatas@alphaimplant.hu
END:VEVENT
BEGIN:VEVENT
DTSTART;TZID=UTC:20231019T083000
DTEND;TZID=UTC:20231019T140000
DTSTAMP:20260424T124107
CREATED:20230606T185812Z
LAST-MODIFIED:20230911T140728Z
UID:4775-1697704200-1697724000@alphaimplant.hu
SUMMARY:3/3 Komplikált implantációk | Dr. Kemper Róbert | 18 pont*
DESCRIPTION:3/3 Komplikált implantációk\n\nElőadó: Dr. Kemper Róbert\nIdőpont: 2023.10.19.\nKurzus díja: 199.000 Forint (A három rész egyben)\nHelyszín: 1016 Budapest\, Mészáros utca 58. B épület\, 4. emelet\nAkkr. pont: *18 pont\, amennyiben mind a három képzést teljesíti \nTematika:\n08:30 – 09:00\nÉrkezés \n09:00 – 09:40\nImplantátum behelyezésének időzítése\n\nAzonnali implantáció\nKésleltetett implantáció kontúr-augmentációval\nKésői implantáció „veszélyei” – csontlebomlás folyamata\n\n09:40 – 10:30\n\nHorizontális és vertikális augmentációk lehetőségei\, elméleti alapjai\n\n10:30 – 11:00\nSzünet \n11:00 – 11:40\nParodontológiai páciensek implantológiai ellátása\n\nRizikóanalízis (PRA)\nParodontológiai előkészítés\n Hosszútávú parodontológiai gondozás\n\n11:40 – 12:30\nEbédszünet \n12:30 – 13:10\n\nImplantátumok körüli lágyrészek sebészete\nPeriimplantitis sebészi ellátásának lehetőségei és korlátai\n\n13:10 – 14:00\nHands-on:\n\nKontúraugmentáció műanyag modellen (Buser protokoll)\n\nJelentkezés
URL:https://alphaimplant.hu/oktatas/23-10-12-implant-alap-3/
LOCATION:Alpha Implant Oktatási Központ\, Mészáros utca 58. B épület\, 4. emelet\, Budapest\, Pest\, 1016\, Magyarország
ATTACH;FMTTYPE=image/png:https://alphaimplant.hu/wp-content/uploads/2023/06/AI_event_2023_2_1336x700_1019.png
ORGANIZER;CN="Alpha Implant Kft.":MAILTO:oktatas@alphaimplant.hu
END:VEVENT
BEGIN:VEVENT
DTSTART;TZID=UTC:20231020T160000
DTEND;TZID=UTC:20231020T190000
DTSTAMP:20260424T124107
CREATED:20230829T163635Z
LAST-MODIFIED:20231018T064059Z
UID:4816-1697817600-1697828400@alphaimplant.hu
SUMMARY:Guided Biofilm Terápia implantátumokhoz
DESCRIPTION:Előadók: Dr. Kemper Róbert\, Dr. Komarek Edit\nIdőpont: 2023.10.20. 16:00-19:00\nKurzus díja: 29.000 Forint (egy rendelőből érkezőknek 25 000 Ft / fő)\nHelyszín: 1072 Budapest\, Dob u. 52\, Parodont Fogorvosi Rendelő\, Első emelet 1. (20-as kapukód) \nA kurzus az alábbiakkal ismerteti meg a résztvevőt:\n– Az irányított biofilm-terápiás protokoll (GBT) elvei és szerepe az implantátum körüli gyulladás megelőzésében \n– Az implantátumok hosszú távú megtartásának lehetőségei \n– A rendszeres otthoni és professzionális szájhigiéné mint az implantátum körüli szövetek egészségének kulcsa \n– Az implantátum felszíni integritásának megtartása a kezelések során \nA kurzus elvégzésével a résztvevő képes lesz:\n– Effektív és biztonságos biofilm-eltávolítást végezni az implantátum körüli szövetek egészségéért \n– Hatékonyan alkalmazni az AIRFLOW® MAX\, PERIOFLOW® és PIEZON® PI MAX eszközöket implantátumok környezetében
URL:https://alphaimplant.hu/oktatas/23-10-20-gbt-implant/
LOCATION:Pest
ATTACH;FMTTYPE=image/png:https://alphaimplant.hu/wp-content/uploads/2023/08/thumbnail_image007.png
END:VEVENT
BEGIN:VEVENT
DTSTART;TZID=UTC:20231026T080000
DTEND;TZID=UTC:20231026T140000
DTSTAMP:20260424T124107
CREATED:20230514T101543Z
LAST-MODIFIED:20230816T132515Z
UID:4729-1698307200-1698328800@alphaimplant.hu
SUMMARY:Sinus lift hands-on kurzus | Dr. Markgruber Bence\, Dr Gálmiklós Ádám | 6 pont
DESCRIPTION:Sinus lift hands-on kurzus\nElőadók: Dr. Markgruber Bence\, Dr Gálmiklós Ádám\nIdőpont: 2023.10.26\nKurzus díja: 79.000 Forint\nHelyszín: 1016 Budapest\, Mészáros utca 58. B épület\, 4. emelet\nAkkr. pont: 6 pont \nLeírás\nFogatlan felső laterális terület anatómiája\, az arcüreg-emelés technikáinak áttekintése. A megnyílt arcüreg zárásának lehetőségei. Kombinált csonthiányok augmentációs ellátása\, maxilla laterális területén. Laterális ablakból végzett sinus-elevatio \nTematika:\n08:30-09:00 Érkezés \n09:00 – 09:40 Dr. Markgruber Bence \nFogatlan felső laterális terület anatómiája\, az arcüreg-emelés technikáinak áttekintése \n09:40 – 10:20 Dr. Gálmiklós Ádám \nA megnyílt arcüreg zárásának lehetőségei \n10:20 – 10:40 Szünet \n10:40 – 12:00 Dr. Gálmiklós Ádám és Dr. Markgruber Bence\n \nKombinált csonthiányok augmentációs ellátása\, maxilla laterális területén \n12:00 – 12:30 Ebédszünet \n12:30 – 14:00 Hands-on kurzus \nDisznó állcsont Laterális ablakból végzett sinus-elevatio \nJelentkezés
URL:https://alphaimplant.hu/oktatas/23-10-26-sinus-lift/
LOCATION:Alpha Implant Oktatási Központ\, Mészáros utca 58. B épület\, 4. emelet\, Budapest\, Pest\, 1016\, Magyarország
ATTACH;FMTTYPE=image/png:https://alphaimplant.hu/wp-content/uploads/2023/05/AI_event_2023_2_1336x7007.png
ORGANIZER;CN="Alpha Implant Kft.":MAILTO:oktatas@alphaimplant.hu
END:VEVENT
END:VCALENDAR