BEGIN:VCALENDAR
VERSION:2.0
PRODID:-//Alpha Implant - ECPv6.15.18//NONSGML v1.0//EN
CALSCALE:GREGORIAN
METHOD:PUBLISH
X-WR-CALNAME:Alpha Implant
X-ORIGINAL-URL:https://alphaimplant.hu
X-WR-CALDESC:Események Alpha Implant
REFRESH-INTERVAL;VALUE=DURATION:PT1H
X-Robots-Tag:noindex
X-PUBLISHED-TTL:PT1H
BEGIN:VTIMEZONE
TZID:UTC
BEGIN:STANDARD
TZOFFSETFROM:+0000
TZOFFSETTO:+0000
TZNAME:UTC
DTSTART:20220101T000000
END:STANDARD
END:VTIMEZONE
BEGIN:VEVENT
DTSTART;TZID=UTC:20230908T160000
DTEND;TZID=UTC:20230908T190000
DTSTAMP:20260424T143118
CREATED:20230724T184349Z
LAST-MODIFIED:20230825T090233Z
UID:4795-1694188800-1694199600@alphaimplant.hu
SUMMARY:GBT kurzus | Elméleti és gyakorlati képzés | Dr. Kemper Róbert\, Dr. Komarek Edit
DESCRIPTION:Irányított biofilm terápia EMS készülékkel\nElőadók: Dr. Kemper Róbert\, Dr. Komarek Edit\nIdőpont: 2023.09.08. 16:00-19:00\nKurzus díja: 29.000 Forint (egy rendelőből érkezőknek 25 000 Ft / fő)\nHelyszín: 1072 Budapest\, Dob u. 52\, Parodont Fogorvosi Rendelő\, Első emelet 1. (20-as kapukód) \n\nKlinikai fogászati higiénikusoknak és fogorvosoknak\nAmiben többet nyújt\, mint a hagyományos fogkőeltávolítás: \n1. Professzionális szájhigiénia érzéstelenítés nélkül. \n2. Koncepcióváltást hoz a parodontális terápiában. \n3. Periimplantitis terápiás lehetőségét biztosítja. \n4. Rögzített fogszabályozó készülékek mellett is professzionális szájhigiénés kezelést biztosít. \n  \nA biofilm szerepe az orális higiénia szempontjából. Guided Biofilm Therapy (GBT). \nMilyen terápiás lehetőségekkel rendelkezünk? \nA GBT jelentősége a periimplantitis szempontjából. \nJelentkezés
URL:https://alphaimplant.hu/oktatas/23-09-08-ems/
LOCATION:Parodont Fogorvosi Rendelő\, Dob u. 52.\, Budapest\, Budapest\, 1072\, Magyarország
ATTACH;FMTTYPE=image/png:https://alphaimplant.hu/wp-content/uploads/2023/07/230908_AI_event_2023_2_1336x700.png
ORGANIZER;CN="Alpha Implant Kft.":MAILTO:oktatas@alphaimplant.hu
END:VEVENT
BEGIN:VEVENT
DTSTART;TZID=UTC:20230914T080000
DTEND;TZID=UTC:20230914T150000
DTSTAMP:20260424T143118
CREATED:20230514T093237Z
LAST-MODIFIED:20230608T192841Z
UID:4720-1694678400-1694703600@alphaimplant.hu
SUMMARY:Sebészi varrattechnikák | Dr. Dr. Oberna Ferenc | 6 pont
DESCRIPTION:Sebészi varrattechnikák\nElőadó: Dr. Dr. Oberna Ferenc\nIdőpont: 2023.09.14\nKurzus díja: 49.000 Forint\nHelyszín: 1016 Budapest\, Mészáros utca 58. B épület\, 4. emelet\nAkkr. pont: 6 pont \nTematika\n08:30-09:00 \nÉrekzés \n9:00-11:50 \nA dento-alveoláris és a parodontális sebészetben alkalmazott varrattechnikák. \n11:50-12:30 \nEbédszünet \n12:30-14:00 \nHands-on kurzus sertés állcsonton \nKépek\n\n		\n		\n			\n				\n			\n			\n				\n			\n			\n				\n			\n			\n				\n			\n			\n				\n			\n			\n				\n			\n		\n\nJelentkezés
URL:https://alphaimplant.hu/oktatas/23-09-14-sebvar/
LOCATION:Alpha Implant Oktatási Központ\, Mészáros utca 58. B épület\, 4. emelet\, Budapest\, Pest\, 1016\, Magyarország
ATTACH;FMTTYPE=image/png:https://alphaimplant.hu/wp-content/uploads/2023/05/AI_event_2023_2_1336x7002.png
ORGANIZER;CN="Alpha Implant Kft.":MAILTO:oktatas@alphaimplant.hu
END:VEVENT
BEGIN:VEVENT
DTSTART;TZID=UTC:20230921T083000
DTEND;TZID=UTC:20230921T150000
DTSTAMP:20260424T143118
CREATED:20230514T100948Z
LAST-MODIFIED:20230608T192919Z
UID:4726-1695285000-1695308400@alphaimplant.hu
SUMMARY:Implantológiai alapkurzus | Dr. Marada Gyula | 6 pont
DESCRIPTION:Implantológiai alapkurzus\nElőadó: Dr. Marada Gyula\nIdőpont: 2023.09.21\nKurzus díja: 36.000 Forint\nHelyszín: 1016 Budapest\, Mészáros utca 58. B épület\, 4. emelet\nAkkr. pont: 6 pont \nLeírás\nA kurzus áttekinti az Alpha-Bio Tec. implantátum rendzser használatát mind elméleti\, mind gyakorlati szempontból\, illetve bemutatja annak sebészeti és protetikai aspektusait. A résztvevők az előadó és az együttműködő kollégák segítségével elsajátíthatják és részletesen megismerhetik az implantátum rendszer használatát. \nTematika:\n08:30-09:00\nÉrkezés \n09:00-10:15\nAlpha-Bio Tec. implantátumok tulajdonságai\, előnyei\, sebészeti- és protetikai szempontok \n10:15-10:35\nSzünet \n10:35-12:00\nSebészeti és protetikai megoldások\,\nEsetbemutatás \n12:00-12:30\nEbédszünet \n12:30-15:00\nGyakorlati kurzus\, implantátum behelyezés\, lenyomatvétel\, protetikai fejek kiválasztása \nJelentkezés
URL:https://alphaimplant.hu/oktatas/23-09-21-implant-alap/
LOCATION:Alpha Implant Oktatási Központ\, Mészáros utca 58. B épület\, 4. emelet\, Budapest\, Pest\, 1016\, Magyarország
ATTACH;FMTTYPE=image/png:https://alphaimplant.hu/wp-content/uploads/2023/05/AI_event_2023_2_1336x7003.png
ORGANIZER;CN="Alpha Implant Kft.":MAILTO:oktatas@alphaimplant.hu
END:VEVENT
BEGIN:VEVENT
DTSTART;TZID=UTC:20230928T083000
DTEND;TZID=UTC:20230928T140000
DTSTAMP:20260424T143118
CREATED:20230606T185212Z
LAST-MODIFIED:20230608T192948Z
UID:4770-1695889800-1695909600@alphaimplant.hu
SUMMARY:1/3 Implantáció alapjai és lépései | Dr. Heinrich Kevin | 18 pont*
DESCRIPTION:1/3 Implantáció alapjai és lépései\n\nElőadó: Dr. Heinrich Kevin\nIdőpont: 2023.09.28\nKurzus díja: 199.000 Forint (A három rész egyben)\nHelyszín: 1016 Budapest\, Mészáros utca 58. B épület\, 4. emelet\nAkkr. pont: *18 pont\, amennyiben mind a három képzést teljesíti \nTematika:\n09:00 – 10:30\nAz implantológia biológiai alapjai: \n\nOsszeointegráció fogalma\, feltételei\nFogeltávolítást / sebészi behelyezést követő sebgyógyulás folyamata\nCsontminőség\nImplantátumok körüli lágyszövetek anatómiája\nFogak és implantátumok körüli szövetek összehasonlítása\n\nAnamnézis\, diagnosztika\, képalkotó vizsgálatok: \n\nÁltalános és fogászati anamnézis felvétele\nImplantáció abszolút és relatív kontraindikációi (+vérzékeny és biszfoszfonát-kezelt páciensek ellátása\nTájékozott beleegyezés\nRöntgendiagnosztika\, cbct értékelése\n\n10:30 – 10:45\n\nSzünet\n\n10:45 – 12:00\nKülönböző foghiány-típusok implantológiai ellátása (csak sebészi szempontból) \n\nEgyszeres foghiány\nTöbbszörös foghiányok ellátása\nTeljes foghiány implantológiai ellátása\n\nImplantáció lépései \n\nImplantáció tárgyi és személyi feltételei\, eszközök bemutatása\nAz implantológiai műtő felépítése\, sterilizálás\nPáciens előkészítése implantációhoz\nEgyszerű implantáció menete\nNyitott / zárt implantátum gyógyulás\nImplantátum felszabadítás\nMűtét utáni tájékoztatás\n\nImplantáció komplikációi \n12:00 – 12:30\n\nEbédszünet\n\n12:30 – 14:00\nHands-on\n\nImplantátum behelyezése (műanyag állcsontba)\n\nJelentkezés
URL:https://alphaimplant.hu/oktatas/23-09-28-implant-1/
LOCATION:Alpha Implant Oktatási Központ\, Mészáros utca 58. B épület\, 4. emelet\, Budapest\, Pest\, 1016\, Magyarország
ATTACH;FMTTYPE=image/png:https://alphaimplant.hu/wp-content/uploads/2023/05/AI_event_2023_2_1336x7004.png
ORGANIZER;CN="Alpha Implant Kft.":MAILTO:oktatas@alphaimplant.hu
END:VEVENT
END:VCALENDAR