BEGIN:VCALENDAR
VERSION:2.0
PRODID:-//Alpha Implant - ECPv6.15.18//NONSGML v1.0//EN
CALSCALE:GREGORIAN
METHOD:PUBLISH
X-ORIGINAL-URL:https://alphaimplant.hu
X-WR-CALDESC:Események Alpha Implant
REFRESH-INTERVAL;VALUE=DURATION:PT1H
X-Robots-Tag:noindex
X-PUBLISHED-TTL:PT1H
BEGIN:VTIMEZONE
TZID:UTC
BEGIN:STANDARD
TZOFFSETFROM:+0000
TZOFFSETTO:+0000
TZNAME:UTC
DTSTART:20220101T000000
END:STANDARD
END:VTIMEZONE
BEGIN:VEVENT
DTSTART;TZID=UTC:20230413T083000
DTEND;TZID=UTC:20230413T150000
DTSTAMP:20260424T233904
CREATED:20221206T204215Z
LAST-MODIFIED:20221219T182714Z
UID:4509-1681374600-1681398000@alphaimplant.hu
SUMMARY:Implantológiai alapkurzus - Dr. Marada Gyula
DESCRIPTION:Implantológiai alapkurzus\nIdőpont: 2023. április 13. csütörtök 08:30-15:00\n \nRészvételi díj: Bruttó 29.000\,- Ft \nRészvételi díj tartalma: kurzus költség\, kávészünetek\, felhasznált eszközök és anyagok \n  \nElőadó: \n\n\nDr. Marada Gyula\n\n\nA kurzus áttekinti az Alpha-Bio Tec. implantátum rendzser használatát mind elméleti\, mind gyakorlati szempontból\, illetve bemutatja annak sebészeti és protetikai aspektusait. A résztvevők az előadó és az együttműködő kollégák segítségével elsajátíthatják és részletesen megismerhetik az implantátum rendszer használatát. \nKurzus tematika:\n08:30-09:00\n\nÉrkezés\n\n09:00-10:15\n\nAlpha-Bio Tec. implantátumok tulajdonságai\, előnyei\, sebészeti- és protetikai szempontok\n\n10:15-10:35\n\nSzünet\n\n10:35-12:00\n\nSebészeti és protetikai megoldások\,\nEsetbemutatás\n\n12:00-12:30\n\nEbédszünet\n\n12:30-15:00\n\nGyakorlati kurzus\, implantátum behelyezés\, lenyomatvétel\, protetikai fejek kiválasztása\n\nJelentkezés
URL:https://alphaimplant.hu/oktatas/230413-implantologiai-alapkurzus/
LOCATION:Alpha Implant Oktatási Központ\, Mészáros utca 58. B épület\, 4. emelet\, Budapest\, Pest\, 1016\, Magyarország
ATTACH;FMTTYPE=image/png:https://alphaimplant.hu/wp-content/uploads/2022/12/AI_event_2023_1_1336x7008.png
ORGANIZER;CN="Alpha Implant Kft.":MAILTO:oktatas@alphaimplant.hu
END:VEVENT
BEGIN:VEVENT
DTSTART;TZID=UTC:20230414T160000
DTEND;TZID=UTC:20230414T190000
DTSTAMP:20260424T233904
CREATED:20221206T204501Z
LAST-MODIFIED:20230323T180543Z
UID:4511-1681488000-1681498800@alphaimplant.hu
SUMMARY:Irányított biofilm terápia EMS készülékkel | Dr. Kemper Róbert\, Dr. Komarek Edit
DESCRIPTION:Irányított biofilm terápia EMS készülékkel\nIdőpont: 2023. április 14. péntek 16:00-19:00\n \nHelyszín: Parodont Fogorvosi Rendelő\, 1072 Budapest\, Dob u. 52. Első emelet 1. (20-as kapukód) \nElőadó:\n\n\nDr. Kemper Róbert\n\n\nDr. Komarek Edit\n\n\nA képzés ára: bruttó 29 000 Ft (egy rendelőből érkezőknek 25 000 Ft / fő) \n  \nKlinikai fogászati higiénikusoknak és fogorvosoknak.\n  \nAmiben többet nyújt\, mint a hagyományos fogkőeltávolítás: \n1. Professzionális szájhigiénia érzéstelenítés nélkül. \n2. Koncepcióváltást hoz a parodontális terápiában. \n3. Periimplantitis terápiás lehetőségét biztosítja. \n4. Rögzített fogszabályozó készülékek mellett is professzionális szájhigiénés kezelést biztosít. \n  \nA biofilm szerepe az orális higiénia szempontjából. Guided Biofilm Therapy (GBT). \nMilyen terápiás lehetőségekkel rendelkezünk? \nA GBT jelentősége a periimplantitis szempontjából. \nJelentkezés
URL:https://alphaimplant.hu/oktatas/230414-ems-kurzus/
LOCATION:Parodont Fogorvosi Rendelő\, Dob u. 52.\, Budapest\, Budapest\, 1072\, Magyarország
ATTACH;FMTTYPE=image/png:https://alphaimplant.hu/wp-content/uploads/2022/12/AI_event_2023_1_1336x7009-1.png
ORGANIZER;CN="Alpha Implant Kft.":MAILTO:oktatas@alphaimplant.hu
END:VEVENT
BEGIN:VEVENT
DTSTART;TZID=UTC:20230427T083000
DTEND;TZID=UTC:20230427T140000
DTSTAMP:20260424T233904
CREATED:20221206T204833Z
LAST-MODIFIED:20221219T182945Z
UID:4513-1682584200-1682604000@alphaimplant.hu
SUMMARY:Azonnali implantáció elmélete és gyakorlata | Dr. Kemper Róbert\, Dr. Szamódy Tamás
DESCRIPTION:Azonnali implantáció elmélete és gyakorlata\nIdőpont: 2023.04.27. 08:30 – 14:00 \nElőadók: \n\n\nDr. Kemper Róbert\n\n\nDr. Szamódy Tamás\n\n\nRészvételi díj: Bruttó 79.000\,- Ft \nTematika:\n08:30 – 09:00\nÉrkezés \n09:00 – 10:45\nDr. Kemper Róbert\n\nAz azonnali implantáció története. A fogeltávolítás következményei Anatómiai viszonyok osztályozása. Indikációk\, kontraindikációk. Az azonnali implantátumok behelyezésének sebészi aspektusai (trükkök\, fortélyok) A lágyszöveti kontúr megtartása. Azonnali terhelhetőség kérdése.\n\n10:45 – 11:15\nSzünet \n11:15 – 12:00\nDr. Szamódy Tamás\n\nAzonnali implantátumra készült ideiglenes fogpótlás kialakítása. Végleges fogpótlás elkészítésének lehetőségei\n\n12:00 – 12:30\nEbédszünet \n12:30 – 14:00\nHands-on kurzus \nJelentkezés
URL:https://alphaimplant.hu/oktatas/230427-azonnali-implantacio/
LOCATION:Alpha Implant Oktatási Központ\, Mészáros utca 58. B épület\, 4. emelet\, Budapest\, Pest\, 1016\, Magyarország
ATTACH;FMTTYPE=image/png:https://alphaimplant.hu/wp-content/uploads/2022/12/AI_event_2023_1_1336x70010.png
ORGANIZER;CN="Alpha Implant Kft.":MAILTO:oktatas@alphaimplant.hu
END:VEVENT
END:VCALENDAR