BEGIN:VCALENDAR
VERSION:2.0
PRODID:-//Alpha Implant - ECPv6.15.18//NONSGML v1.0//EN
CALSCALE:GREGORIAN
METHOD:PUBLISH
X-ORIGINAL-URL:https://alphaimplant.hu
X-WR-CALDESC:Események Alpha Implant
REFRESH-INTERVAL;VALUE=DURATION:PT1H
X-Robots-Tag:noindex
X-PUBLISHED-TTL:PT1H
BEGIN:VTIMEZONE
TZID:UTC
BEGIN:STANDARD
TZOFFSETFROM:+0000
TZOFFSETTO:+0000
TZNAME:UTC
DTSTART:20220101T000000
END:STANDARD
END:VTIMEZONE
BEGIN:VEVENT
DTSTART;TZID=UTC:20230302T083000
DTEND;TZID=UTC:20230302T140000
DTSTAMP:20260425T012604
CREATED:20221206T203506Z
LAST-MODIFIED:20221219T182344Z
UID:4503-1677745800-1677765600@alphaimplant.hu
SUMMARY:2/3 Implantációs protetikai lehetőségek - Dr. Gálmiklós Ádám
DESCRIPTION:2/3 Implantációs protetikai lehetőségek\n\nIdőpont: 2023. március 02. 08:30 – 14:00 \nElőadó: \n\n\nDr. Gálmiklós Ádám\n\n\nRészvételi díj: Bruttó 79.000\,- Ft \n  \nTematika:  \n08.30 – 09.00\nÉrkezés \n09:00 – 10:00 \nSzóló foghiányok ellátása\n\n Cementezett / csavarozott implantológiai megoldások\n Lenyomatvétel típusai\n Fogtechnikai munkafázisok rövid ismertetése\n Hagyományos / CAD/CAM eljárások\n Frontrégió esztétikus protetikája\n\n10:00 – 10:30 \nSzünet \n10:30 – 11:45 \nTöbbszörös sorközi és sorvégi hiányok ellátása\n\nCementezett / csavarozott protetika\n\n11:45 – 12:30 \nEbédszünet \n12:30 – 13:00 \nTeljes foghiány implantációs protetikai lehetőségei         \n\nKivehető fogpótlások implantátumokra (patent-rendszerek\, stéges megoldások)\nRögzített fogpótlások implantátumokra (hídprotézisek\, All-on-4)\n\n13:00 – 14:00 \nHands-on\n\nProtetikai alkatrészek bemutatása\, lenyomatvételi eljárások\n\nJelentkezés
URL:https://alphaimplant.hu/oktatas/230302-implant-alap-2/
LOCATION:Alpha Implant Oktatási Központ\, Mészáros utca 58. B épület\, 4. emelet\, Budapest\, Pest\, 1016\, Magyarország
ATTACH;FMTTYPE=image/png:https://alphaimplant.hu/wp-content/uploads/2022/12/AI_event_2023_1_1336x7005.png
ORGANIZER;CN="Alpha Implant Kft.":MAILTO:oktatas@alphaimplant.hu
END:VEVENT
BEGIN:VEVENT
DTSTART;TZID=UTC:20230309T083000
DTEND;TZID=UTC:20230309T140000
DTSTAMP:20260425T012604
CREATED:20221206T203803Z
LAST-MODIFIED:20221219T182454Z
UID:4505-1678350600-1678370400@alphaimplant.hu
SUMMARY:3/3 Komplikált implantációk - Dr. Kemper Róbert
DESCRIPTION:3/3 Komplikált implantációk\n\nIdőpont: 2023.03.09. 08:30 – 14:00 \nElőadó: \n\n\nDr. Kemper Róbert\n\n\nRészvételi díj: Bruttó 79.000\,- Ft \nTematika:\n08:30 – 09:00\nÉrkezés \n09:00 – 09:40\nImplantátum behelyezésének időzítése\n\nAzonnali implantáció\nKésleltetett implantáció kontúr-augmentációval\nKésői implantáció „veszélyei” – csontlebomlás folyamata\n\n09:40 – 10:30\n\nHorizontális és vertikális augmentációk lehetőségei\, elméleti alapjai\n\n10:30 – 11:00\nSzünet \n11:00 – 11:40\nParodontológiai páciensek implantológiai ellátása\n\nRizikóanalízis (PRA)\nParodontológiai előkészítés\n Hosszútávú parodontológiai gondozás\n\n11:40 – 12:30\nEbédszünet \n12:30 – 13:10\n\nImplantátumok körüli lágyrészek sebészete\nPeriimplantitis sebészi ellátásának lehetőségei és korlátai\n\n13:10 – 14:00\nHands-on:\n\nKontúraugmentáció műanyag modellen (Buser protokoll)\n\nJelentkezés
URL:https://alphaimplant.hu/oktatas/230309-implant-alap-3/
LOCATION:Alpha Implant Oktatási Központ\, Mészáros utca 58. B épület\, 4. emelet\, Budapest\, Pest\, 1016\, Magyarország
ATTACH;FMTTYPE=image/png:https://alphaimplant.hu/wp-content/uploads/2022/12/AI_event_2023_1_1336x7006.png
ORGANIZER;CN="Alpha Implant Kft.":MAILTO:oktatas@alphaimplant.hu
END:VEVENT
BEGIN:VEVENT
DTSTART;TZID=UTC:20230323T083000
DTEND;TZID=UTC:20230323T140000
DTSTAMP:20260425T012604
CREATED:20221206T204059Z
LAST-MODIFIED:20230323T180640Z
UID:4507-1679560200-1679580000@alphaimplant.hu
SUMMARY:Implantátum körüli lágyrész management – Dr. Kemper Róbert
DESCRIPTION:Implantátum körüli lágyrész management\nIdőpont: 2023. március .23. 8:30-14:00 \nRészvételi díj: Bruttó 79.000\,- Ft \nRészvételi díj tartalma: kurzus költség\, kávészünetek\, felhasznált eszközök és anyagok\, sertés cadaver \n  \nElőadók: \n\n\nDr. Komarek Edit\n\n\nDr. Kemper Róbert\n\n\nDr. Gálmiklós Ádám\n\n\nTematika:\n08:30 – 09:00\n\nÉrkezés\n\n09:00 – 09:40 \nDr. Komarek Edit:\n\n Az implantátumok körüli szövetek anatómiája\, szabad ínylebenyek használata a mandibula moláris régiójában.\n\n09:40 – 10:30 \nDr. Gálmiklós Ádám:\n\nLágyrész-augmentációs technikák az implantátumok funkcióstabilitásának aspektusából\n\n10:30 – 10:50\n\nKávészünet\n\n10:50 – 11:50\nDr. Kemper Róbert:\n\nRózsaszín esztétika a frontfog implantátumoknál\n\n11:50 – 12:30\n\nEbédszünet\n\n12:30 – 14:00\nHands-on\n\nSertés állcsonton: Vesztibulum-plasztika a moláris régióban\n\nJelentkezés
URL:https://alphaimplant.hu/oktatas/230323-implantatum-koruli-lagyresz/
LOCATION:Alpha Implant Oktatási Központ\, Mészáros utca 58. B épület\, 4. emelet\, Budapest\, Pest\, 1016\, Magyarország
ATTACH;FMTTYPE=image/png:https://alphaimplant.hu/wp-content/uploads/2022/12/AI_event_2023_1_1336x7007.png
ORGANIZER;CN="Alpha Implant Kft.":MAILTO:oktatas@alphaimplant.hu
END:VEVENT
BEGIN:VEVENT
DTSTART;TZID=UTC:20230330T083000
DTEND;TZID=UTC:20230330T140000
DTSTAMP:20260425T012604
CREATED:20221206T203007Z
LAST-MODIFIED:20230208T192122Z
UID:4498-1680165000-1680184800@alphaimplant.hu
SUMMARY:Sebészi varrattechnikák | Dr. Dr. Oberna Ferenc
DESCRIPTION:Sebészi varrattechnikák\nIdőpont: 2023. március 30. csütörtök  08:30 – 14:00 \nElőadó: \nDr. Dr. Oberna Ferenc\nRészvételi díj: Bruttó 29.000\,- Ft \nTematika:\n08:30-09:00\nÉrekzés \n9:00-11:50\nA dento-alveoláris és a parodontális sebészetben alkalmazott varrattechnikák. \n11:50-12:30\nEbédszünet \n12:30-14:00\nHands-on: Sertés állcsonton \n\nJelentkezés
URL:https://alphaimplant.hu/oktatas/230330-sebeszi-varrattechnikak/
LOCATION:Alpha Implant Oktatási Központ\, Mészáros utca 58. B épület\, 4. emelet\, Budapest\, Pest\, 1016\, Magyarország
ATTACH;FMTTYPE=image/png:https://alphaimplant.hu/wp-content/uploads/2022/12/AI_event_2023_1_1080x1080_2.png
ORGANIZER;CN="Alpha Implant Kft.":MAILTO:oktatas@alphaimplant.hu
END:VEVENT
END:VCALENDAR