BEGIN:VCALENDAR
VERSION:2.0
PRODID:-//Alpha Implant - ECPv6.15.18//NONSGML v1.0//EN
CALSCALE:GREGORIAN
METHOD:PUBLISH
X-WR-CALNAME:Alpha Implant
X-ORIGINAL-URL:https://alphaimplant.hu
X-WR-CALDESC:Események Alpha Implant
REFRESH-INTERVAL;VALUE=DURATION:PT1H
X-Robots-Tag:noindex
X-PUBLISHED-TTL:PT1H
BEGIN:VTIMEZONE
TZID:UTC
BEGIN:STANDARD
TZOFFSETFROM:+0000
TZOFFSETTO:+0000
TZNAME:UTC
DTSTART:20250101T000000
END:STANDARD
END:VTIMEZONE
BEGIN:VEVENT
DTSTART;TZID=UTC:20260516T090000
DTEND;TZID=UTC:20260516T130000
DTSTAMP:20260420T113004
CREATED:20260416T124514Z
LAST-MODIFIED:20260416T124952Z
UID:6545-1778922000-1778936400@alphaimplant.hu
SUMMARY:Genefill DX Tréning - Arcvolumen és biostimuláció hibrid megközelítésben
DESCRIPTION:Előadó: Dr. Piero Crabai\nIdőpont: 2026. május 16.\, 09:00 – 13:00\nHelyszín: 1016 Budapest\, Mészáros utca 58. B épület\, 4. emelet\nKurzus díja: \n\nbruttó 90.000 Ft\nbruttó 150.000 Ft (amely 2 db Genefill DX terméket tartalmaz)\n\n\nA tréningről\nA Genefill DX egy új generációs\, hibrid töltőanyag\, amely keresztkötött hialuronsavat és a dextranomert kombinálja. \nA hialuronsav azonnali volumennövelést és strukturális támaszt biztosít\, míg a dextranomer mikrogömbök kontrollált biostimuláció révén hosszabb távon serkentik a kollagén- és elasztintermelést. \nA DX különlegessége\, hogy hidat képez a klasszikus volumizáló fillerek és a biostimulátorok között\, így új kezelési lehetőséget kínál az arcöregedés komplex kezelésére. \n\nProgramterv\n\n08:30 – 09:00: Érkezés\, reggeli kávé és networking\n09:00 – 10:30: Elméleti blokk\n\nBioScience bemutatása\nGenefill portfólió & DX\nTudományos háttér – DX vs CaHA vs PLLA\nHatásmechanizmus és klinikai alkalmazás\nKombinációs lehetőségek\n\n\n10:30 – 11:00: Kávészünet\n11:00 – 13:00: Élő demonstráció (Kezelések bemutatása 2 modellen)\n\nJelentkezés
URL:https://alphaimplant.hu/oktatas/genefill-dx-trening-arcvolumen-es-biostimulacio-hibrid-megkozelitesben/
ATTACH;FMTTYPE=image/png:https://alphaimplant.hu/wp-content/uploads/2026/04/dxn-kepzes.png
END:VEVENT
END:VCALENDAR