BEGIN:VCALENDAR
VERSION:2.0
PRODID:-//Alpha Implant - ECPv6.15.18//NONSGML v1.0//EN
CALSCALE:GREGORIAN
METHOD:PUBLISH
X-WR-CALNAME:Alpha Implant
X-ORIGINAL-URL:https://alphaimplant.hu
X-WR-CALDESC:Események Alpha Implant
REFRESH-INTERVAL;VALUE=DURATION:PT1H
X-Robots-Tag:noindex
X-PUBLISHED-TTL:PT1H
BEGIN:VTIMEZONE
TZID:UTC
BEGIN:STANDARD
TZOFFSETFROM:+0000
TZOFFSETTO:+0000
TZNAME:UTC
DTSTART:20230101T000000
END:STANDARD
END:VTIMEZONE
BEGIN:VEVENT
DTSTART;TZID=UTC:20241107T150000
DTEND;TZID=UTC:20241107T180000
DTSTAMP:20260421T081156
CREATED:20241015T105636Z
LAST-MODIFIED:20241015T190217Z
UID:5449-1730991600-1731002400@alphaimplant.hu
SUMMARY:dicomLAB x Alpha Implant workshop
DESCRIPTION:dicomLAB X Alpha Implant Workshop\n\n\nElőadó: Dr. Varga Endre\nIdőpont: 2024. november 7. csütörtök\, 15:00-18:00\nKurzus díja: A kurzus díja bruttó 100 Euró\nHelyszín: 1016 Budapest\, Mészáros utca 58. B épület\, 4. emelet\n\n\nÖrömmel jelentjük be\, hogy a dicomLAB és az Alpha Implant Kft. együttműködésének keretében egy közös workshop sorozatot indítunk\, melynek keretein belül az első esemény november 7-én\, csütörtökön lesz! A dicomLAB X Alpha Implant Workshop során lehetőségetek lesz megismerkedni a legújabb műtéti tervező és sablonvezérelt megoldásokkal\, amelyek kiszámíthatóbbá\, pontosabbá és hatékonyabbá teszik az implantációs beavatkozásokat.\n\n\nA program részeként bemutatjuk:\n\na dicomLAB Platformot és annak online műtéti tervezőjét\,\na műtéti sablonokat és tálcákat\,\na chairside megoldásokat (sablon és fogpótlás STL-ben)\na stackable guide technológiát.\n\n\nJelentkezés\nA képzésre IDE KATTINTVA van lehetősége jelentkezni!\n(https://forms.gle/ft7g3rPAevEQ5kc58) \n\n  \nAmennyiben kérdése lenne a képzéssel kapcsolatban\, forduljon munkatársainkhoz!\nKovács-Zsolnai Tímea: +36 30 647 3355\, timea.zsolnai@dicomlab.com\nTülkös Anett: +36 30 160 7141\, anett.tulkos@dicomlab.com
URL:https://alphaimplant.hu/oktatas/dicomlab-x-alpha-implant-workshop/
LOCATION:Alpha Implant Oktatási Központ\, Mészáros utca 58. B épület\, 4. emelet\, Budapest\, Pest\, 1016\, Magyarország
ATTACH;FMTTYPE=image/jpeg:https://alphaimplant.hu/wp-content/uploads/2024/10/461840422_563987639530580_4686296114049327425_n.jpg
END:VEVENT
END:VCALENDAR