BEGIN:VCALENDAR
VERSION:2.0
PRODID:-//Alpha Implant - ECPv6.15.18//NONSGML v1.0//EN
CALSCALE:GREGORIAN
METHOD:PUBLISH
X-WR-CALNAME:Alpha Implant
X-ORIGINAL-URL:https://alphaimplant.hu
X-WR-CALDESC:Események Alpha Implant
REFRESH-INTERVAL;VALUE=DURATION:PT1H
X-Robots-Tag:noindex
X-PUBLISHED-TTL:PT1H
BEGIN:VTIMEZONE
TZID:UTC
BEGIN:STANDARD
TZOFFSETFROM:+0000
TZOFFSETTO:+0000
TZNAME:UTC
DTSTART:20230101T000000
END:STANDARD
END:VTIMEZONE
BEGIN:VEVENT
DTSTART;TZID=UTC:20240307T083000
DTEND;TZID=UTC:20240307T140000
DTSTAMP:20260422T174514
CREATED:20231212T113124Z
LAST-MODIFIED:20231215T091451Z
UID:4931-1709800200-1709820000@alphaimplant.hu
SUMMARY:Implantátum körüli lágyrész management – Dr. Komarek Edit\, Dr. Gálmiklós Ádám | 6 pont
DESCRIPTION:Implantátum körüli lágyrész management\nIdőpont: 2024. március 07. 8:30-14:00 \nRészvételi díj: Bruttó 79.000\,- Ft \nRészvételi díj tartalma: kurzus költség\, kávészünetek\, felhasznált eszközök és anyagok\, sertés cadaver \nPontok: 6 \n  \nElőadók: \n\n\nDr. Komarek Edit\n\n\nDr. Gálmiklós Ádám\n\n\nTematika:\n08:30 – 09:00\n\nÉrkezés\n\n09:00 – 09:40 \n\n Az implantátumok körüli szövetek anatómiája\, szabad ínylebenyek használata a mandibula moláris régiójában.\n\n09:40 – 10:30 \n\nLágyrész-augmentációs technikák az implantátumok funkcióstabilitásának aspektusából\n\n10:30 – 10:50\n\nKávészünet\n\n10:50 – 11:50\n\nRózsaszín esztétika a frontfog implantátumoknál\n\n11:50 – 12:30\n\nEbédszünet\n\n12:30 – 14:00\nHands-on\n\nSertés állcsonton: Vesztibulum-plasztika a moláris régióban\n\nJelentkezés
URL:https://alphaimplant.hu/oktatas/240307-implant-lagyresz/
LOCATION:Alpha Implant Oktatási Központ\, Mészáros utca 58. B épület\, 4. emelet\, Budapest\, Pest\, 1016\, Magyarország
ATTACH;FMTTYPE=image/png:https://alphaimplant.hu/wp-content/uploads/2023/12/0307_AI_event_2024_1_1336x700.png
ORGANIZER;CN="Alpha Implant Kft.":MAILTO:oktatas@alphaimplant.hu
END:VEVENT
END:VCALENDAR