BEGIN:VCALENDAR
VERSION:2.0
PRODID:-//Alpha Implant - ECPv6.15.18//NONSGML v1.0//EN
CALSCALE:GREGORIAN
METHOD:PUBLISH
X-WR-CALNAME:Alpha Implant
X-ORIGINAL-URL:https://alphaimplant.hu
X-WR-CALDESC:Események Alpha Implant
REFRESH-INTERVAL;VALUE=DURATION:PT1H
X-Robots-Tag:noindex
X-PUBLISHED-TTL:PT1H
BEGIN:VTIMEZONE
TZID:UTC
BEGIN:STANDARD
TZOFFSETFROM:+0000
TZOFFSETTO:+0000
TZNAME:UTC
DTSTART:20230101T000000
END:STANDARD
END:VTIMEZONE
BEGIN:VEVENT
DTSTART;TZID=UTC:20241205T090000
DTEND;TZID=UTC:20241205T150000
DTSTAMP:20260421T081944
CREATED:20240512T141118Z
LAST-MODIFIED:20240526T110544Z
UID:5225-1733389200-1733410800@alphaimplant.hu
SUMMARY:Rossz pozícióban elhelyezkedő implantátumok sebészi és protetikai korrekciója | Dr. Kemper Róbert | 6 pont
DESCRIPTION:Rossz pozícióban elhelyezkedő implantátumok sebészi és protetikai korrekciója | Dr. Kemper Róbert\nElőadó: Dr. Kemper Róbert\nIdőpont: 2024.12.05\nKurzus díja: A kurzus díja 89.000 Forint\nHelyszín: 1016 Budapest\, Mészáros utca 58. B épület\, 4. emelet\nAkkr. pont: 6 pont \nLeírás:\nAz implantátumok hosszútávú sikerességének eléréséhez az implantátumok körül megfelelő mennyiségi és minőségi csont és lágyrész szövetnek kell rendelkezésre állnia. Külön fontos feladat a lágyrészprofil\, az úgynevezett emergencia profil gondos\, a felépítménnyel történő kialakítása. . A behelyezett implantátumok növekvő száma mellett emelkedik a szakmailag és laikus szemmel is kifogásolható végeredmények mennyisége is. Az implantáció sikertelenségét nem csupán egy esetleges implantátum elvesztése\, az osszeointegráció hiánya vagy periimplantitis okozhatja\, hanem egy eseménymentesen begyógyult\, de nem megfelelő pozícióba behelyezett implantátum is. A tanfolyam a malpozícióban lévő implantátumok korrekciós lehetőségeit taglalja. \nTematika:\n08:30-09:00 Érkezés \n09:00 – 09:40 Dr. Kemper Róbert \nAz implantátumok ideális helyzete. Csont és lágyrész viszonyok az implantátumok körül. Emergencia profil anatómiája\, kialakítása. \n09:40 – 10:20 Dr. Kemper Róbert \nMalpozícióban elhelyezkedő implantátumok típusai. Angulációjában\, mélységében és a testes helyzetében pontatlanul beültetett implantátumok\, valamint ezek kombinációja. Protetikai kompenzáció. Lágyrészsebészeti\, csontsebészeti korrekció. \n10:20 – 10:40 Szünet \n10:40 – 12:00 Dr. Kemper Róbert \nMenthetetlen implantátumok eltávolítása\, helyreállítás\, és nehézségei \n12:00 – 12:30 Ebédszünet \n12:30 – 14:00 Hands-on kurzus \nJelentkezés:
URL:https://alphaimplant.hu/oktatas/24-12-05-rossz-pozicioban-elhelyezkedo-implantatumok-sebeszi-es-protetikai-korrekcioja-dr-kemper-robert/
ATTACH;FMTTYPE=image/png:https://alphaimplant.hu/wp-content/uploads/2024/05/AI_event_2024_2_1336x70011.png
END:VEVENT
END:VCALENDAR