BEGIN:VCALENDAR
VERSION:2.0
PRODID:-//Alpha Implant - ECPv6.15.18//NONSGML v1.0//EN
CALSCALE:GREGORIAN
METHOD:PUBLISH
X-WR-CALNAME:Alpha Implant
X-ORIGINAL-URL:https://alphaimplant.hu
X-WR-CALDESC:Események Alpha Implant
REFRESH-INTERVAL;VALUE=DURATION:PT1H
X-Robots-Tag:noindex
X-PUBLISHED-TTL:PT1H
BEGIN:VTIMEZONE
TZID:UTC
BEGIN:STANDARD
TZOFFSETFROM:+0000
TZOFFSETTO:+0000
TZNAME:UTC
DTSTART:20220101T000000
END:STANDARD
END:VTIMEZONE
BEGIN:VEVENT
DTSTART;TZID=UTC:20230414T160000
DTEND;TZID=UTC:20230414T190000
DTSTAMP:20260423T115027
CREATED:20221206T204501Z
LAST-MODIFIED:20230323T180543Z
UID:4511-1681488000-1681498800@alphaimplant.hu
SUMMARY:Irányított biofilm terápia EMS készülékkel | Dr. Kemper Róbert\, Dr. Komarek Edit
DESCRIPTION:Irányított biofilm terápia EMS készülékkel\nIdőpont: 2023. április 14. péntek 16:00-19:00\n \nHelyszín: Parodont Fogorvosi Rendelő\, 1072 Budapest\, Dob u. 52. Első emelet 1. (20-as kapukód) \nElőadó:\n\n\nDr. Kemper Róbert\n\n\nDr. Komarek Edit\n\n\nA képzés ára: bruttó 29 000 Ft (egy rendelőből érkezőknek 25 000 Ft / fő) \n  \nKlinikai fogászati higiénikusoknak és fogorvosoknak.\n  \nAmiben többet nyújt\, mint a hagyományos fogkőeltávolítás: \n1. Professzionális szájhigiénia érzéstelenítés nélkül. \n2. Koncepcióváltást hoz a parodontális terápiában. \n3. Periimplantitis terápiás lehetőségét biztosítja. \n4. Rögzített fogszabályozó készülékek mellett is professzionális szájhigiénés kezelést biztosít. \n  \nA biofilm szerepe az orális higiénia szempontjából. Guided Biofilm Therapy (GBT). \nMilyen terápiás lehetőségekkel rendelkezünk? \nA GBT jelentősége a periimplantitis szempontjából. \nJelentkezés
URL:https://alphaimplant.hu/oktatas/230414-ems-kurzus/
LOCATION:Parodont Fogorvosi Rendelő\, Dob u. 52.\, Budapest\, Budapest\, 1072\, Magyarország
ATTACH;FMTTYPE=image/png:https://alphaimplant.hu/wp-content/uploads/2022/12/AI_event_2023_1_1336x7009-1.png
ORGANIZER;CN="Alpha Implant Kft.":MAILTO:oktatas@alphaimplant.hu
END:VEVENT
END:VCALENDAR