BEGIN:VCALENDAR
VERSION:2.0
PRODID:-//Alpha Implant - ECPv6.15.18//NONSGML v1.0//EN
CALSCALE:GREGORIAN
METHOD:PUBLISH
X-WR-CALNAME:Alpha Implant
X-ORIGINAL-URL:https://alphaimplant.hu
X-WR-CALDESC:Események Alpha Implant
REFRESH-INTERVAL;VALUE=DURATION:PT1H
X-Robots-Tag:noindex
X-PUBLISHED-TTL:PT1H
BEGIN:VTIMEZONE
TZID:UTC
BEGIN:STANDARD
TZOFFSETFROM:+0000
TZOFFSETTO:+0000
TZNAME:UTC
DTSTART:20220101T000000
END:STANDARD
END:VTIMEZONE
BEGIN:VEVENT
DTSTART;TZID=UTC:20230216T083000
DTEND;TZID=UTC:20230216T150000
DTSTAMP:20260423T115210
CREATED:20221023T060334Z
LAST-MODIFIED:20221219T182021Z
UID:4346-1676536200-1676559600@alphaimplant.hu
SUMMARY:Implantológiai alapkurzus - Dr. Marada Gyula
DESCRIPTION:Implantológiai alapkurzus\nIdőpont: 2023. február 16. csütörtök 08:30-15:00\n \nRészvételi díj: Bruttó 29.000\,- Ft \nRészvételi díj tartalma: kurzus költség\, kávészünetek\, felhasznált eszközök és anyagok \n  \nA képzés akkreditált\, 4 szabadon válaszható pont kapható érte! \n  \nElőadó: \n\n\nDr. Marada Gyula\n\n\nA kurzus áttekinti az Alpha-Bio Tec. implantátum rendzser használatát mind elméleti\, mind gyakorlati szempontból\, illetve bemutatja annak sebészeti és protetikai aspektusait. A résztvevők az előadó és az együttműködő kollégák segítségével elsajátíthatják és részletesen megismerhetik az implantátum rendszer használatát. \nKurzus tematika:\n08:30-09:00\n\nÉrkezés\n\n09:00-10:15\n\nAlpha-Bio Tec. implantátumok tulajdonságai\, előnyei\, sebészeti- és protetikai szempontok\n\n10:15-10:35\n\nSzünet\n\n10:35-12:00\n\nSebészeti és protetikai megoldások\,\nEsetbemutatás\n\n12:00-12:30\n\nEbédszünet\n\n12:30-15:00\n\nGyakorlati kurzus\, implantátum behelyezés\, lenyomatvétel\, protetikai fejek kiválasztása\n\nJelentkezés
URL:https://alphaimplant.hu/oktatas/230216-implantologiai-alapkurzus/
LOCATION:Alpha Implant Oktatási Központ\, Mészáros utca 58. B épület\, 4. emelet\, Budapest\, Pest\, 1016\, Magyarország
ATTACH;FMTTYPE=image/png:https://alphaimplant.hu/wp-content/uploads/2022/12/AI_event_2023_1_1336x7003.png
ORGANIZER;CN="Alpha Implant Kft.":MAILTO:oktatas@alphaimplant.hu
END:VEVENT
END:VCALENDAR