BEGIN:VCALENDAR
VERSION:2.0
PRODID:-//Alpha Implant - ECPv6.15.18//NONSGML v1.0//EN
CALSCALE:GREGORIAN
METHOD:PUBLISH
X-WR-CALNAME:Alpha Implant
X-ORIGINAL-URL:https://alphaimplant.hu
X-WR-CALDESC:Események Alpha Implant
REFRESH-INTERVAL;VALUE=DURATION:PT1H
X-Robots-Tag:noindex
X-PUBLISHED-TTL:PT1H
BEGIN:VTIMEZONE
TZID:UTC
BEGIN:STANDARD
TZOFFSETFROM:+0000
TZOFFSETTO:+0000
TZNAME:UTC
DTSTART:20220101T000000
END:STANDARD
END:VTIMEZONE
BEGIN:VEVENT
DTSTART;TZID=UTC:20231130T080000
DTEND;TZID=UTC:20231130T150000
DTSTAMP:20260422T174406
CREATED:20230514T104009Z
LAST-MODIFIED:20230816T132307Z
UID:4735-1701331200-1701356400@alphaimplant.hu
SUMMARY:Malpozícióban lévő implantátumok korrekciós lehetőségei | Dr. Kemper Róbert | 6 pont
DESCRIPTION:Előadó: Dr. Kemper Róbert\nIdőpont: 2023.11.30\nKurzus díja: 79.000 Forint\nHelyszín: 1016 Budapest\, Mészáros utca 58. B épület\, 4. emelet\nAkkr. pont: 6 pont \nLeírás:\nAz implantátumok hosszútávú sikerességének eléréséhez az implantátumok körül megfelelő mennyiségi és minőségi csont és lágyrész szövetnek kell rendelkezésre állnia. Külön fontos feladat a lágyrészprofil\, az úgynevezett emergencia profil gondos\, a felépítménnyel történő kialakítása. . A behelyezett implantátumok növekvő száma mellett emelkedik a szakmailag és laikus szemmel is kifogásolható végeredmények mennyisége is. Az implantáció sikertelenségét nem csupán egy esetleges implantátum elvesztése\, az osszeointegráció hiánya vagy periimplantitis okozhatja\, hanem egy eseménymentesen begyógyult\, de nem megfelelő pozícióba behelyezett implantátum is. A tanfolyam a malpozícióban lévő implantátumok korrekciós lehetőségeit taglalja. \nTematika:\n08:30-09:00 Érkezés \n09:00 – 09:40 Dr. Kemper Róbert \nAz implantátumok ideális helyzete. Csont és lágyrész viszonyok az implantátumok körül. Emergencia profil anatómiája\, kialakítása. \n09:40 – 10:20 Dr. Kemper Róbert \nMalpozícióban elhelyezkedő implantátumok típusai. Angulációjában\, mélységében és a testes helyzetében pontatlanul beültetett implantátumok\, valamint ezek kombinációja. Protetikai kompenzáció. Lágyrészsebészeti\, csontsebészeti korrekció. \n10:20 – 10:40 Szünet \n10:40 – 12:00 Dr. Kemper Róbert \nMenthetetlen implantátumok eltávolítása\, helyreállítás\, és nehézségei \n12:00 – 12:30 Ebédszünet \n12:30 – 14:00 Hands-on kurzus \nJelentkezés:
URL:https://alphaimplant.hu/oktatas/23-11-30-malpozicio-lehetosegek/
LOCATION:Alpha Implant Oktatási Központ\, Mészáros utca 58. B épület\, 4. emelet\, Budapest\, Pest\, 1016\, Magyarország
ATTACH;FMTTYPE=image/png:https://alphaimplant.hu/wp-content/uploads/2023/05/AI_event_2023_2_1336x70011.png
ORGANIZER;CN="Alpha Implant Kft.":MAILTO:oktatas@alphaimplant.hu
END:VEVENT
END:VCALENDAR