BEGIN:VCALENDAR
VERSION:2.0
PRODID:-//Alpha Implant - ECPv6.15.18//NONSGML v1.0//EN
CALSCALE:GREGORIAN
METHOD:PUBLISH
X-WR-CALNAME:Alpha Implant
X-ORIGINAL-URL:https://alphaimplant.hu
X-WR-CALDESC:Események Alpha Implant
REFRESH-INTERVAL;VALUE=DURATION:PT1H
X-Robots-Tag:noindex
X-PUBLISHED-TTL:PT1H
BEGIN:VTIMEZONE
TZID:UTC
BEGIN:STANDARD
TZOFFSETFROM:+0000
TZOFFSETTO:+0000
TZNAME:UTC
DTSTART:20210101T000000
END:STANDARD
END:VTIMEZONE
BEGIN:VEVENT
DTSTART;TZID=UTC:20221123T083000
DTEND;TZID=UTC:20221123T140000
DTSTAMP:20260424T143810
CREATED:20220621T090426Z
LAST-MODIFIED:20220706T174903Z
UID:4218-1669192200-1669212000@alphaimplant.hu
SUMMARY:Azonnali implantáció elmélete és gyakorlata | Dr. Kemper Róbert\, Dr. Szamódy Tamás | 4 pont
DESCRIPTION:Azonnali implantáció elmélete és gyakorlata\nIdőpont: 2022.11.23. 08:30 – 14:00 \nElőadók: \n\n\nDr. Kemper Róbert\n\n\nDr. Szamódy Tamás\n\n\nRészvételi díj: Bruttó 49.000\,- Ft \nA kurzus akkreditált\, 4 szabadon választható pont jár érte. \nTematika:\n08:30 – 09:00\nÉrkezés \n09:00 – 10:45\nDr. Kemper Róbert\n\nAz azonnali implantáció története. A fogeltávolítás következményei Anatómiai viszonyok osztályozása. Indikációk\, kontraindikációk. Az azonnali implantátumok behelyezésének sebészi aspektusai (trükkök\, fortélyok) A lágyszöveti kontúr megtartása. Azonnali terhelhetőség kérdése.\n\n10:45 – 11:15\nSzünet \n11:15 – 12:00\nDr. Szamódy Tamás\n\nAzonnali implantátumra készült ideiglenes fogpótlás kialakítása. Végleges fogpótlás elkészítésének lehetőségei\n\n12:00 – 12:30\nEbédszünet \n12:30 – 14:00\nHands-on kurzus \nJelentkezés
URL:https://alphaimplant.hu/oktatas/221123-azonnali-implantacio/
LOCATION:Alpha Implant Oktatási Központ\, Mészáros utca 58. B épület\, 4. emelet\, Budapest\, Pest\, 1016\, Magyarország
ATTACH;FMTTYPE=image/png:https://alphaimplant.hu/wp-content/uploads/2022/06/AI_event_2022_2_1336x70011-1.png
ORGANIZER;CN="Alpha Implant Kft.":MAILTO:oktatas@alphaimplant.hu
END:VEVENT
END:VCALENDAR