BEGIN:VCALENDAR
VERSION:2.0
PRODID:-//Alpha Implant - ECPv6.15.18//NONSGML v1.0//EN
CALSCALE:GREGORIAN
METHOD:PUBLISH
X-WR-CALNAME:Alpha Implant
X-ORIGINAL-URL:https://alphaimplant.hu
X-WR-CALDESC:Események Alpha Implant
REFRESH-INTERVAL;VALUE=DURATION:PT1H
X-Robots-Tag:noindex
X-PUBLISHED-TTL:PT1H
BEGIN:VTIMEZONE
TZID:UTC
BEGIN:STANDARD
TZOFFSETFROM:+0000
TZOFFSETTO:+0000
TZNAME:UTC
DTSTART:20210101T000000
END:STANDARD
END:VTIMEZONE
BEGIN:VEVENT
DTSTART;TZID=UTC:20221005T083000
DTEND;TZID=UTC:20221005T140000
DTSTAMP:20260423T115032
CREATED:20220608T212049Z
LAST-MODIFIED:20220719T150036Z
UID:4187-1664958600-1664978400@alphaimplant.hu
SUMMARY:1/3 Implantáció alapjai és lépései | Dr. Heinrich Kevin | 14 pont*
DESCRIPTION:1/3 Implantáció alapjai és lépései\n\nIdőpont: 2022. október 05. szerda 08:30 -14:00 \nRészvételi díj: Bruttó 49.000\,- Ft\n(ha mind a három részt elvégezné\, kérjük jelezze felénk\, mert a kurzus díja ebben az esetben 147 000 ft. helyett 120 000 ft.)\nAmennyiben mind a 3 képzésen részt vesz\, abban az esetben 14 szabadon felhasználható pont kapható érte. \nElőadó: \n\n\nDr. Heinrich Kevin\n\n\nTematika:\n09:00 – 10:30\nAz implantológia biológiai alapjai: \n\nOsszeointegráció fogalma\, feltételei\nFogeltávolítást / sebészi behelyezést követő sebgyógyulás folyamata\nCsontminőség\nImplantátumok körüli lágyszövetek anatómiája\nFogak és implantátumok körüli szövetek összehasonlítása\n\nAnamnézis\, diagnosztika\, képalkotó vizsgálatok: \n\nÁltalános és fogászati anamnézis felvétele\nImplantáció abszolút és relatív kontraindikációi (+vérzékeny és biszfoszfonát-kezelt páciensek ellátása\nTájékozott beleegyezés\nRöntgendiagnosztika\, cbct értékelése\n\n10:30 – 10:45\n\nSzünet\n\n10:45 – 12:00\nKülönböző foghiány-típusok implantológiai ellátása (csak sebészi szempontból) \n\nEgyszeres foghiány\nTöbbszörös foghiányok ellátása\nTeljes foghiány implantológiai ellátása\n\nImplantáció lépései \n\nImplantáció tárgyi és személyi feltételei\, eszközök bemutatása\nAz implantológiai műtő felépítése\, sterilizálás\nPáciens előkészítése implantációhoz\nEgyszerű implantáció menete\nNyitott / zárt implantátum gyógyulás\nImplantátum felszabadítás\nMűtét utáni tájékoztatás\n\nImplantáció komplikációi \n12:00 – 12:30\n\nEbédszünet\n\n12:30 – 14:00\nHands-on\n\nImplantátum behelyezése (műanyag állcsontba)\n\nJelentkezés
URL:https://alphaimplant.hu/oktatas/221005-implant-alap-1/
LOCATION:Alpha Implant Oktatási Központ\, Mészáros utca 58. B épület\, 4. emelet\, Budapest\, Pest\, 1016\, Magyarország
ATTACH;FMTTYPE=image/png:https://alphaimplant.hu/wp-content/uploads/2022/06/AI_event_2022_1005_1336x700.png
ORGANIZER;CN="Alpha Implant Kft.":MAILTO:oktatas@alphaimplant.hu
END:VEVENT
END:VCALENDAR