BEGIN:VCALENDAR
VERSION:2.0
PRODID:-//Alpha Implant - ECPv6.15.18//NONSGML v1.0//EN
CALSCALE:GREGORIAN
METHOD:PUBLISH
X-ORIGINAL-URL:https://alphaimplant.hu
X-WR-CALDESC:Események Alpha Implant
REFRESH-INTERVAL;VALUE=DURATION:PT1H
X-Robots-Tag:noindex
X-PUBLISHED-TTL:PT1H
BEGIN:VTIMEZONE
TZID:UTC
BEGIN:STANDARD
TZOFFSETFROM:+0000
TZOFFSETTO:+0000
TZNAME:UTC
DTSTART:20230101T000000
END:STANDARD
END:VTIMEZONE
BEGIN:VEVENT
DTSTART;TZID=UTC:20240322T080000
DTEND;TZID=UTC:20240322T170000
DTSTAMP:20260424T055321
CREATED:20240212T082534Z
LAST-MODIFIED:20240213T105038Z
UID:5064-1711094400-1711126800@alphaimplant.hu
SUMMARY:Xenograftok felhasználási lehetőségei az irányított csontregenerációban (GBR) és az implantátumok körüli lágyszövetplasztikában 1. | Dr. Bartha Ferenc
DESCRIPTION:Az irányított csontregeneráció (GBR) biológiai és sebészeti alapjai\nIdőpont: 2024.03.22 09:00-17:00\nElőadó: Dr. Bartha Ferenc\nKurzus díja: két képzés esetén bruttó 258.000 Ft\, egy képzés esetén bruttó 139.000 Ft\nHelyszín: 1016 Budapest\, Mészáros utca 58. B épület\, 4. emelet \n  \nTematika\n09.00 – 10.45 \n– a csontszövet gyógyulási folyamata\n– csontpótló anyagok \n10.45 – 11.00 \n– kávészünet \n11.00 – 12.30 \n– irányított csontregeneráció – GBR\n– membránok \n12.30 – 13.30 \n– ebédszünet \n13.30 – 15.00 \n– a GBR sebészeti alapjai\n– sebészi műszerek\n– lebenyképzés\n– varrattechnikák \n15.00 – 15.15 \n– kávészünet \n15.15 – 17.00 \n– hands-on sertés állcsonton \nJelentkezés
URL:https://alphaimplant.hu/oktatas/xenograftok-felhasznalasi-lehetosegei-az-iranyitott-csontregeneracioban-gbr-es-az-implantatumok-koruli-lagyszovetplasztikaban-1/
LOCATION:Alpha Implant Oktatási Központ\, Mészáros utca 58. B épület\, 4. emelet\, Budapest\, Pest\, 1016\, Magyarország
ATTACH;FMTTYPE=image/png:https://alphaimplant.hu/wp-content/uploads/2024/02/g1.png
ORGANIZER;CN="Alpha Implant Kft.":MAILTO:oktatas@alphaimplant.hu
END:VEVENT
END:VCALENDAR