BEGIN:VCALENDAR
VERSION:2.0
PRODID:-//Alpha Implant - ECPv6.15.18//NONSGML v1.0//EN
CALSCALE:GREGORIAN
METHOD:PUBLISH
X-WR-CALNAME:Alpha Implant
X-ORIGINAL-URL:https://alphaimplant.hu
X-WR-CALDESC:Események Alpha Implant
REFRESH-INTERVAL;VALUE=DURATION:PT1H
X-Robots-Tag:noindex
X-PUBLISHED-TTL:PT1H
BEGIN:VTIMEZONE
TZID:UTC
BEGIN:STANDARD
TZOFFSETFROM:+0000
TZOFFSETTO:+0000
TZNAME:UTC
DTSTART:20230101T000000
END:STANDARD
END:VTIMEZONE
BEGIN:VEVENT
DTSTART;TZID=UTC:20240321T080000
DTEND;TZID=UTC:20240321T150000
DTSTAMP:20260424T055038
CREATED:20231212T113305Z
LAST-MODIFIED:20231213T230800Z
UID:4933-1711008000-1711033200@alphaimplant.hu
SUMMARY:Sebészi varrattechnikák | Dr. Dr. Oberna Ferenc | 6 pont
DESCRIPTION:Sebészi varrattechnikák\nElőadó: Dr. Dr. Oberna Ferenc\nIdőpont: 2024.03.21\nKurzus díja: 49.000 Forint\nHelyszín: 1016 Budapest\, Mészáros utca 58. B épület\, 4. emelet\nAkkr. pont: 6 pont \nTematika\n08:30-09:00 \nÉrekzés \n9:00-11:50 \nA dento-alveoláris és a parodontális sebészetben alkalmazott varrattechnikák. \n11:50-12:30 \nEbédszünet \n12:30-14:00 \nHands-on kurzus sertés állcsonton \nKépek\n\n		\n		\n			\n				\n			\n			\n				\n			\n			\n				\n			\n			\n				\n			\n			\n				\n			\n			\n				\n			\n		\n\nJelentkezés
URL:https://alphaimplant.hu/oktatas/240321-sebvar/
LOCATION:Alpha Implant Oktatási Központ\, Mészáros utca 58. B épület\, 4. emelet\, Budapest\, Pest\, 1016\, Magyarország
ATTACH;FMTTYPE=image/png:https://alphaimplant.hu/wp-content/uploads/2023/12/AI_event_2024_1_1336x7005.png
ORGANIZER;CN="Alpha Implant Kft.":MAILTO:oktatas@alphaimplant.hu
END:VEVENT
END:VCALENDAR