BEGIN:VCALENDAR
VERSION:2.0
PRODID:-//Alpha Implant - ECPv6.15.18//NONSGML v1.0//EN
CALSCALE:GREGORIAN
METHOD:PUBLISH
X-WR-CALNAME:Alpha Implant
X-ORIGINAL-URL:https://alphaimplant.hu
X-WR-CALDESC:Események Alpha Implant
REFRESH-INTERVAL;VALUE=DURATION:PT1H
X-Robots-Tag:noindex
X-PUBLISHED-TTL:PT1H
BEGIN:VTIMEZONE
TZID:UTC
BEGIN:STANDARD
TZOFFSETFROM:+0000
TZOFFSETTO:+0000
TZNAME:UTC
DTSTART:20220101T000000
END:STANDARD
END:VTIMEZONE
BEGIN:VEVENT
DTSTART;TZID=UTC:20231109T080000
DTEND;TZID=UTC:20231109T150000
DTSTAMP:20260424T124059
CREATED:20230514T102145Z
LAST-MODIFIED:20230816T132621Z
UID:4731-1699516800-1699542000@alphaimplant.hu
SUMMARY:Horizontális és vertikális augmentációk alapkurzus | Dr. Kemper Róbert | 6 pont
DESCRIPTION:Horizontális és vertikális augmentációk alapkurzus\nElőadók: Dr. Kemper Róbert\nIdőpont: 2023.11.09\nKurzus díja: 79.000 Forint\nHelyszín: 1016 Budapest\, Mészáros utca 58. B épület\, 4. emelet\nAkkr. pont: 6 pont \nLeírás\nKisebb csonthiányok pótlásának lehetőségei az implantológiában. Csontpótlási technikák bemutatása. Sikerek\, nehézségek\, sikertelenségek. \nTematika:\n08:30-09:00 Érkezés \n09:00 – 09:40 Dr. Kemper Róbert \nA dentoalveolaris területen keletkező csonthiányok okai. A csonthiányok osztályozása. Főbb irányok az augmentációs technikákban \n09:40 – 10:20 Dr. Kemper Róbert \nGBR felszívódó membránnal. Kontúraugmentáció. Cocoon technika\, és lehetóségei. Mini blokkok. \n10:20 – 10:40 Szünet \n10:40 – 12:00 Dr. Kemper Róbert \nSzagittális oszteotómia fajtái. Sebzárás. Lágyrész korrekciók. Nehézségek. Sikertelenségek- \n12:00 – 12:30 Ebédszünet \n12:30 – 14:00 Hands-on kurzus \nGeistlich csontpótló anyagokkal végzett augmentáció modellen \nJelentkezés
URL:https://alphaimplant.hu/oktatas/23-11-09-horizontal-vertical-augment/
LOCATION:Alpha Implant Oktatási Központ\, Mészáros utca 58. B épület\, 4. emelet\, Budapest\, Pest\, 1016\, Magyarország
ATTACH;FMTTYPE=image/png:https://alphaimplant.hu/wp-content/uploads/2023/05/AI_event_2023_2_1336x7009.png
ORGANIZER;CN="Alpha Implant Kft.":MAILTO:oktatas@alphaimplant.hu
END:VEVENT
END:VCALENDAR