BEGIN:VCALENDAR
VERSION:2.0
PRODID:-//Alpha Implant - ECPv6.15.18//NONSGML v1.0//EN
CALSCALE:GREGORIAN
METHOD:PUBLISH
X-WR-CALNAME:Alpha Implant
X-ORIGINAL-URL:https://alphaimplant.hu
X-WR-CALDESC:Események Alpha Implant
REFRESH-INTERVAL;VALUE=DURATION:PT1H
X-Robots-Tag:noindex
X-PUBLISHED-TTL:PT1H
BEGIN:VTIMEZONE
TZID:UTC
BEGIN:STANDARD
TZOFFSETFROM:+0000
TZOFFSETTO:+0000
TZNAME:UTC
DTSTART:20200101T000000
END:STANDARD
END:VTIMEZONE
BEGIN:VEVENT
DTSTART;TZID=UTC:20211203T160000
DTEND;TZID=UTC:20211203T190000
DTSTAMP:20260421T081930
CREATED:20210817T184421Z
LAST-MODIFIED:20210818T215129Z
UID:3623-1638547200-1638558000@alphaimplant.hu
SUMMARY:2021.12.03. – Irányított Biofilm Terápia EMS készülékkel – Dr. Kemper Róbert
DESCRIPTION:Irányított Biofilm Terápia EMS készülékkel\nIdőpont: 2021. december 03. 16:00-19:00\nHelyszín: Parodont fogászati rendelő\nCím: 1072 Budapest\, Dob u. 52. Első emelet 1. (20-as kapukód)\n \nElőadó:\n\n\nDr. Kemper Róbert\n\n\nDr. Komarek Edit\n\n\nA képzés ára: bruttó 29 000 Ft (egy rendelőből érkezőknek 25 000 Ft / fő) \nKlinikai fogászati higiénikusoknak és fogorvosoknak.\n  \nAmiben többet nyújt\, mint a hagyományos fogkőeltávolítás: \n1. Professzionális szájhigiénia érzéstelenítés nélkül. \n2. Koncepcióváltást hoz a parodontális terápiában. \n3. Periimplantitis terápiás lehetőségét biztosítja. \n4. Rögzített fogszabályozó készülékek mellett is professzionális szájhigiénés kezelést biztosít. \n  \nA biofilm szerepe az orális higiénia szempontjából. Guided Biofilm Therapy (GBT). \nMilyen terápiás lehetőségekkel rendelkezünk? \nA GBT jelentősége a periimplantitis szempontjából. \nJelentkezés
URL:https://alphaimplant.hu/oktatas/2021-12-03-iranyitott-biofilm-terapia-ems-keszulekkel/
LOCATION:Parodont Fogorvosi Rendelő\, Dob u. 52.\, Budapest\, Budapest\, 1072\, Magyarország
ATTACH;FMTTYPE=image/png:https://alphaimplant.hu/wp-content/uploads/2021/08/AI_event_2021_2_1336x70010.png
ORGANIZER;CN="Alpha Implant Kft.":MAILTO:oktatas@alphaimplant.hu
END:VEVENT
END:VCALENDAR