BEGIN:VCALENDAR
VERSION:2.0
PRODID:-//Alpha Implant - ECPv6.15.18//NONSGML v1.0//EN
CALSCALE:GREGORIAN
METHOD:PUBLISH
X-WR-CALNAME:Alpha Implant
X-ORIGINAL-URL:https://alphaimplant.hu
X-WR-CALDESC:Események Alpha Implant
REFRESH-INTERVAL;VALUE=DURATION:PT1H
X-Robots-Tag:noindex
X-PUBLISHED-TTL:PT1H
BEGIN:VTIMEZONE
TZID:UTC
BEGIN:STANDARD
TZOFFSETFROM:+0000
TZOFFSETTO:+0000
TZNAME:UTC
DTSTART:20200101T000000
END:STANDARD
END:VTIMEZONE
BEGIN:VEVENT
DTSTART;TZID=UTC:20211124T083000
DTEND;TZID=UTC:20211124T140000
DTSTAMP:20260424T021942
CREATED:20210817T183207Z
LAST-MODIFIED:20210901T172851Z
UID:3617-1637742600-1637762400@alphaimplant.hu
SUMMARY:2021.11.24. - 2/3 Implantációs protetikai lehetőségek - Dr. Gálmiklós Ádám | 15 pont*
DESCRIPTION:2/3 Implantációs protetikai lehetőségek\n\nIdőpont: 2021.11.24. 08:30 – 14:00 \nElőadó: \n\n\nDr. Gálmiklós Ádám\n\n\nRészvételi díj: Bruttó 49.000\,- Ft \n(Ha mind a három részt elvégezné\, kérjük jelezze felénk\, mert a kurzus díja ebben az esetben 147 000 Forint. helyett 120 000 Forint.)\nA kurzus akkreditált\, 15 szabadon választható pont kapható érte\, amennyiben mind a 3 részét elvégzi. \nTematika:  \n08.30 – 09.00\nÉrkezés \n09:00 – 10:00 \nSzóló foghiányok ellátása\n\n Cementezett / csavarozott implantológiai megoldások\n Lenyomatvétel típusai\n Fogtechnikai munkafázisok rövid ismertetése\n Hagyományos / CAD/CAM eljárások\n Frontrégió esztétikus protetikája\n\n10:00 – 10:30 \nSzünet \n10:30 – 11:45 \nTöbbszörös sorközi és sorvégi hiányok ellátása\n\nCementezett / csavarozott protetika\n\n11:45 – 12:30 \nEbédszünet \n12:30 – 13:00 \nTeljes foghiány implantációs protetikai lehetőségei         \n\nKivehető fogpótlások implantátumokra (patent-rendszerek\, stéges megoldások)\nRögzített fogpótlások implantátumokra (hídprotézisek\, All-on-4)\n\n13:00 – 14:00 \nHands-on\n\nProtetikai alkatrészek bemutatása\, lenyomatvételi eljárások\n\nJelentkezés
URL:https://alphaimplant.hu/oktatas/2021-11-24-2-3-implantacios-protetikai-lehetosegek/
LOCATION:Hamarosan\, Magyarország
ATTACH;FMTTYPE=image/png:https://alphaimplant.hu/wp-content/uploads/2021/08/AI_event_2021_2_1336x7007.png
ORGANIZER;CN="Alpha Implant Kft.":MAILTO:oktatas@alphaimplant.hu
END:VEVENT
END:VCALENDAR