BEGIN:VCALENDAR
VERSION:2.0
PRODID:-//Alpha Implant - ECPv6.15.18//NONSGML v1.0//EN
CALSCALE:GREGORIAN
METHOD:PUBLISH
X-WR-CALNAME:Alpha Implant
X-ORIGINAL-URL:https://alphaimplant.hu
X-WR-CALDESC:Események Alpha Implant
REFRESH-INTERVAL;VALUE=DURATION:PT1H
X-Robots-Tag:noindex
X-PUBLISHED-TTL:PT1H
BEGIN:VTIMEZONE
TZID:UTC
BEGIN:STANDARD
TZOFFSETFROM:+0000
TZOFFSETTO:+0000
TZNAME:UTC
DTSTART:20200101T000000
END:STANDARD
END:VTIMEZONE
BEGIN:VEVENT
DTSTART;TZID=UTC:20211001T083000
DTEND;TZID=UTC:20211001T140000
DTSTAMP:20260424T022105
CREATED:20210817T181331Z
LAST-MODIFIED:20210901T172318Z
UID:3608-1633077000-1633096800@alphaimplant.hu
SUMMARY:2021.10.01. - Implantológiai alapkurzus - Dr. Marada Gyula\, Dr. Velich Norbert | 6 pont
DESCRIPTION:Implantológiai alapkurzus\nIdőpont: 2021.10.01.\n \nRészvételi díj: Bruttó 19.000\,- Ft \nRészvételi díj tartalma: kurzus költség\, kávészünetek\, felhasznált eszközök és anyagok \nA kurzus akkreditált\, 6 szabadon választható pont kapható érte. \nElőadó: \n\n\nDr. Marada Gyula\n\n\nDr. Velich Norbert\n\n\nA kurzus áttekinti az Alpha-Bio Tec. implantátum rendzser használatát mind elméleti\, mind gyakorlati szempontból\, illetve bemutatja annak sebészeti és protetikai aspektusait. A résztvevők az előadó és az együttműködő kollégák segítségével elsajátíthatják és részletesen megismerhetik az implantátum rendszer használatát. \n  \nKurzus tematika:\n08:30-09:00\n\nÉrkezés\n\n09:00-10:15\n\nAlpha-Bio Tec. implantátumok tulajdonságai\, előnyei\, sebészeti- és protetikai szempontok\n\n10:15-10:35\n\nSzünet\n\n10:35-12:00\n\nSebészeti és protetikai megoldások\,\nEsetbemutatás\n\n12:00-12:30\n\nEbédszünet\n\n12:30-16:00\n\nGyakorlati kurzus\, implantátum behelyezés\, lenyomatvétel\, protetikai fejek kiválasztása\n\nJelentkezés
URL:https://alphaimplant.hu/oktatas/2021-10-01-implantologiai-alapkurzus/
LOCATION:Hamarosan\, Magyarország
ATTACH;FMTTYPE=image/png:https://alphaimplant.hu/wp-content/uploads/2021/08/AI_event_2021_2_1336x7002.png
ORGANIZER;CN="Alpha Implant Kft.":MAILTO:oktatas@alphaimplant.hu
END:VEVENT
END:VCALENDAR