BEGIN:VCALENDAR
VERSION:2.0
PRODID:-//Alpha Implant - ECPv6.15.18//NONSGML v1.0//EN
CALSCALE:GREGORIAN
METHOD:PUBLISH
X-WR-CALNAME:Alpha Implant
X-ORIGINAL-URL:https://alphaimplant.hu
X-WR-CALDESC:Események Alpha Implant
REFRESH-INTERVAL;VALUE=DURATION:PT1H
X-Robots-Tag:noindex
X-PUBLISHED-TTL:PT1H
BEGIN:VTIMEZONE
TZID:UTC
BEGIN:STANDARD
TZOFFSETFROM:+0000
TZOFFSETTO:+0000
TZNAME:UTC
DTSTART:20180101T000000
END:STANDARD
END:VTIMEZONE
BEGIN:VEVENT
DTSTART;TZID=UTC:20190515T083000
DTEND;TZID=UTC:20190515T140000
DTSTAMP:20260421T081707
CREATED:20181207T092900Z
LAST-MODIFIED:20190115T074658Z
UID:1486-1557909000-1557928800@alphaimplant.hu
SUMMARY:2019. május 15. I. Implantáció alapjai és lépései - Dr. Kemper Róbert
DESCRIPTION:Implantáció alapjai és lépései \nIdőpont: \n\nmájus 15. szerda 08:30 -14:00\n\nHelyszín: Alpha Implant Kft.\, 1027 Budapest\, Horvát u. 14-24. 7.emelet Oktatási Központ \nRészvételi díj: Bruttó 49.000\,- Ft (ha mind a három részt elvégezné\, kérjük jelezze felénk\, mert a kurzus díja ebben az esetben 147 000 ft. helyett 120 000 ft.) \nElőadó: \n\nDr. Chikány Tamás\n\nKurzus tematika: \nAz implantológia biológiai alapjai: \n\nOsszeointegráció fogalma\, feltételei\nFogeltávolítást / sebészi behelyezést követő sebgyógyulás folyamata\nCsontminőség\nImplantátumok körüli lágyszövetek anatómiája\nFogak és implantátumok körüli szövetek összehasonlítása\n\nAnamnézis\, diagnosztika\, képalkotó vizsgálatok: \n\nÁltalános és fogászati anamnézis felvétele\nImplantáció abszolút és relatív kontraindikációi (+vérzékeny és biszfoszfonát-kezelt páciensek ellátása\nTájékozott beleegyezés\nRöntgendiagnosztika\, cbct értékelése\n\nSzünet \nKülönböző foghiány-típusok implantológiai ellátása (csak sebészi szempontból) \n\nEgyszeres foghiány\nTöbbszörös foghiányok ellátása\nTeljes foghiány implantológiai ellátása\n\nImplantáció lépései \n\nImplantáció tárgyi és személyi feltételei\, eszközök bemutatása\nAz implantológiai műtő felépítése\, sterilizálás\nPáciens előkészítése implantációhoz\nEgyszerű implantáció menete\nNyitott / zárt implantátum gyógyulás\nImplantátum felszabadítás\nMűtét utáni tájékoztatás\n\nImplantáció komplikációi  \nHands-on \n\nImplantátum behelyezése (műanyag állcsontba)
URL:https://alphaimplant.hu/oktatas/2019-majus-15-implantacio-alapjai-es-lepesei/
LOCATION:Alpha Implant Oktatási Központ\, Horvát utca 14-24\, Budapest\, Pest\, 1027\, Magyarország
ORGANIZER;CN="Kocsis D%C3%A1niel":MAILTO:oktatas@alphaimplant.hu
END:VEVENT
END:VCALENDAR